BEGIN:VCALENDAR
VERSION:2.0
PRODID:-//Friends of Vietnam Heritage - ECPv4.6.21//NONSGML v1.0//EN
CALSCALE:GREGORIAN
METHOD:PUBLISH
X-WR-CALNAME:Friends of Vietnam Heritage
X-ORIGINAL-URL:https://www.fvheritage.org
X-WR-CALDESC:Events for Friends of Vietnam Heritage
BEGIN:VEVENT
DTSTART;TZID=Asia/Ho_Chi_Minh:20260131T090000
DTEND;TZID=Asia/Ho_Chi_Minh:20260131T113000
DTSTAMP:20260415T232310
CREATED:20260108T033407Z
LAST-MODIFIED:20260122T035738Z
UID:5714-1769850000-1769859000@www.fvheritage.org
SUMMARY:Tết craft workshop (a.m) – Tết calligraphy & mini hangings
DESCRIPTION:5 SPACES CURRENTLY AVAILABLE \nThis is a regular feature in the calendar in the run up to lunar new year.  A fun and informative Tết calligraphy workshop. \nThere are many symbolic and important practices in the run up to and during this occasion\, one of them includes Tết calligraphy and mini Tết hangings. \nAt this time of year people may want to have on display some particular characters which embody their wishes and dreams for the new year a such as phúc (Happiness)\, lộc phát (fortune)\, lộc (wealth)\, thọ (longevity)\, Đức (virtue) and so on. \nLearn about the meanings and importance of specific words that are used on the calligraphy hangings.  Master calligrapher Lộc will instruct in the basics of the calligraphic style\, and we practice first on A4 sheets of normal paper and then on dó paper. We concentrate on writing auspcious words that mean something to us for the new year. And hopefully we feel confident enough to progress to writing some words in the calligraphic style on the  minature red or yellow calligraphy hangings – this is harder than you may think. These are known as  lắng nghe mùa xuân về and they bring good wishes for the new year (to be hung e.g on kumquat trees and used as Tết decorations). \nCome and join this cozy workshop that begins with a small welcoming tea ceremony to bring good wishes for Tết before chatting to Lộc about his work and craft followed by the workshop. \nVenue:  Bup and Lộc’ home/calligraphy studio in Quý Kiến str\, Cầu Giấy. \nMeeting point:  a cafe round the corner\, we walk round together. Information will be in the welcome email sent to those confirmed \nNumbers:  max 10 pax \nVND 390\,000 pp (same for adults and children). Includes tea appreciation\, workshop\, all materials and calligraphy hangings \nRSVP: to stella@fvheritage.org  \nStart time: 9am \n  \n©1999 Friends of Vietnam Heritage. All rights reserved. All walks and excursions run by Friends of Vietnam Heritage are specially created by\, and are the property of\, Friends of Vietnam Heritage. You cannot use the ideas and content\, copy\, modify or publish these or any other activity without the express permission of Friends of Vietnam Heritage. Our activities are not to be used for commercial purposes. \n  \n  \nPlease follow and like us:Share this:Click to share on Facebook (Opens in new window)Click to share on Twitter (Opens in new window)Click to share on WhatsApp (Opens in new window)Click to share on Skype (Opens in new window)Click to share on Tumblr (Opens in new window)Click to share on Google+ (Opens in new window)Click to share on LinkedIn (Opens in new window)Click to share on Pocket (Opens in new window)Click to share on Pinterest (Opens in new window)Click to print (Opens in new window)Like this:Like Loading...\n\n	Related\n
URL:https://www.fvheritage.org/event/tet-craft-workshop-a-m-tet-calligraphy-mini-hangings/
CATEGORIES:Culture Series,Workshop
ATTACH;FMTTYPE=image/png:https://www.fvheritage.org/wp-content/uploads/2023/01/Picture2.png
END:VEVENT
END:VCALENDAR