BEGIN:VCALENDAR
VERSION:2.0
PRODID:-//Friends of Vietnam Heritage - ECPv4.6.21//NONSGML v1.0//EN
CALSCALE:GREGORIAN
METHOD:PUBLISH
X-WR-CALNAME:Friends of Vietnam Heritage
X-ORIGINAL-URL:https://www.fvheritage.org
X-WR-CALDESC:Events for Friends of Vietnam Heritage
BEGIN:VEVENT
DTSTART;TZID=Asia/Ho_Chi_Minh:20260125T143000
DTEND;TZID=Asia/Ho_Chi_Minh:20260125T170000
DTSTAMP:20260421T120322
CREATED:20260108T041008Z
LAST-MODIFIED:20260115T025813Z
UID:5722-1769351400-1769360400@www.fvheritage.org
SUMMARY:People of Hanoi (p.m): Nguyễn Viết Dũng and Hanoi stories post-1942
DESCRIPTION:AS OF P.M 9 JANUARY – 2 SPACES CURRENTLY AVAILABLE \nAnother in our series of ‘People of Hanoi‘\, where we chat to the real Hanoians who were born & raised\, educated\, lived & worked in Hanoi. Hanoi has fewer and fewer residents who can truly call this city their home ever since the day of their birth. \nMeet our lovely FVH friend who helps FVH behind the scenes with cultural and personal information\, about society and the city\, and the evolving faces of Hanoi. Nguyễn Viết Dũng has offered to host a round table discussion at his home in Ngọc Thụy\, Gia Lâm \nDũng was born in 1942 into a well-read culture-loving family with well-informed parents who themselves had an interesting history. He was educated in the French system\, he set up a construction company in Hanoi in the early days of his working life\, and now he and his wife Thanh (a former leading ophthalmologist at the national eye hospital) live a quiet retired life which sees Dũng doing a lot of cultural research and translating books and poems into VN\, French and even German and vice-versa. Highly educated and with a head full of knowledge Dũng will share many fascinating stories from growing up in the last decade of the French period to the present day. \nHe has been an integral part of FVH ever since we were formed. He has also introduced FVH to many of our other lovely friends such as Tôn Thất Triêm who set  up the Hope Choir. One of our main FVH founders Hữu Ngọc (cultural writer\, editor and author) was one of his best friends\, and our amazing Trần Doãn Lâm (who does our lectures) is in his close friendship circle. \n \nPlease RSVP to: stella@fvheritage.org and include your mobile number \nNumbers: max 10 pax \nVND 200\,000 per person for donation to Dũng for his time and refreshments \nVenue: Ngọc Thụy\, Gia Lâm – exact address will be sent to those who are confirmed on the talk \nDuration: a few hours and please stay on longer for more chatting and some late afternoon refreshments \n  \n  \n©1999 Friends of Vietnam Heritage. All rights reserved. All walks and excursions run by Friends of Vietnam Heritage are specially created by\, and are the property of\, Friends of Vietnam Heritage. You cannot use the ideas and content\, copy\, modify or publish these or any other activity without the express permission of Friends of Vietnam Heritage. Our activities are not to be used for commercial purposes. \nPlease follow and like us:Share this:Click to share on Facebook (Opens in new window)Click to share on Twitter (Opens in new window)Click to share on WhatsApp (Opens in new window)Click to share on Skype (Opens in new window)Click to share on Tumblr (Opens in new window)Click to share on Google+ (Opens in new window)Click to share on LinkedIn (Opens in new window)Click to share on Pocket (Opens in new window)Click to share on Pinterest (Opens in new window)Click to print (Opens in new window)Like this:Like Loading...\n\n	Related\n
URL:https://www.fvheritage.org/event/people-of-hanoi-p-m-meet-nguyen-viet-dung-stories-growing-up-since-1942/
CATEGORIES:Culture Series
ATTACH;FMTTYPE=image/jpeg:https://www.fvheritage.org/wp-content/uploads/2026/01/Mugs-x1-3.jpg
END:VEVENT
END:VCALENDAR