BEGIN:VCALENDAR
VERSION:2.0
PRODID:-//Friends of Vietnam Heritage - ECPv4.6.21//NONSGML v1.0//EN
CALSCALE:GREGORIAN
METHOD:PUBLISH
X-WR-CALNAME:Friends of Vietnam Heritage
X-ORIGINAL-URL:https://www.fvheritage.org
X-WR-CALDESC:Events for Friends of Vietnam Heritage
BEGIN:VEVENT
DTSTART;TZID=Asia/Ho_Chi_Minh:20201212T150000
DTEND;TZID=Asia/Ho_Chi_Minh:20201212T170000
DTSTAMP:20260421T091002
CREATED:20201126T174225Z
LAST-MODIFIED:20201208T030445Z
UID:2187-1607785200-1607792400@www.fvheritage.org
SUMMARY:Music event: Christmas music/carols – The Hope Choir
DESCRIPTION:The Hope Choir annual Christmas recital. AND PLEASE HELP US RAISE MUCH NEEDED FUNDS FOR THE HOPE CHOIR THIS CHRISTMAS \nThis recital is to both celebrate International Day of persons with disabilities on 3 December and the festive season….. and Triem’s birthday \nWe are invited to the Hope Choir’s festive performance at their blind centre 21b Lac Trung – Saturday 12 December @ 3pm as they sing Christmas songs from around the globe and in the language of the songs. \nWe hope as many people can attend as possible to support them .  Apart from being blind they are amazing singers and musicians in their own right. \nIts also a special day as 12 December is Triem’s birthday. So we will have a special surprise birthday cake and refreshments to celebrate with him. Recently he was honoured on the VTV 3 program ‘Điều ước thứ 7’ which was a lovely touching tribute and acknowledgement of all his hard work and dedication. View here –   https://vtv.vn/video/dieu-uoc-thu-7-05-12-2020-474713.htm \nThe program for Saturday 12 December: \n* Hợp Ca  – Choir:\n– Người Hà Nội –  Hanoi song (Nguyễn Đình Thi)\n– Trên quê hương quan họ – In the country of folk songs (Phó Đức Phương)\n– Nhạc rừng – Music in the Forest (Hoàng Việt)\n– Suliko – {Georgian folk song}\n– Hướng tới niềm vui – An die Freude – Ode to Joy (Beethoven)\n– Miền quê yên bình – Alma Llanera {Venezuela} \n* Nhạc dân tộc-Folk instruments orchestra\n \n*  Bài hát Giáng sinh – Christmas Carols:\n– Joy to the World\n– “Tu scendi dalle  stelle” – You come down from the stars {Italy – Ý}\n– “Adeste Fideles” – O come all ye faithful {Italy – Ý}\n– “Infant Holy\, infant lowly” {Poland – Ba lan}\n– “Jesus bleibet meine  Freude”- J.S. Bach\n– “Les anges dans  nos  campagnes” {Pháp – France}\n– “La marche des Rois” {Pháp – France}\n– “Guten Abend-Gut Nacht”{Germany – Đức}\n– “O Tannenbaum du traegst ein’ gruenen Zuweig” {Germany – Đức} \n– “O Tannenbaum” – Ôi cây thông xanh {Germany – Đức}\n– “Nino Lindo” {Spain – Tây Ban Nha}\n– “Spanish Allelu” {Spain – Tây Ban Nha}\n– “Feliz Navidad” {Spain – Tây Ban Nha}\n– “In Bethlehem-Hang Be lem” {Việt Nam} – Vietnamese carol\n– “Deck the Hall with boughs of Holly”\n– “Ring Christmas Bells”\n– “Jingle Bells” \nPlease RSVP  to Stella . We will have an FVH envelope for donations to the choir for those who would like to contribute. \nClick on the link for directions to  Lac Trung street.  21b lac trung\, next to Nguyen Dinh Chieu school  – down an alley near this google map link https://goo.gl/maps/V34mmV4n8GKLgbnh7 \n  \n  \n  \nPlease follow and like us:Share this:Click to share on Facebook (Opens in new window)Click to share on Twitter (Opens in new window)Click to share on WhatsApp (Opens in new window)Click to share on Skype (Opens in new window)Click to share on Tumblr (Opens in new window)Click to share on Google+ (Opens in new window)Click to share on LinkedIn (Opens in new window)Click to share on Pocket (Opens in new window)Click to share on Pinterest (Opens in new window)Click to print (Opens in new window)Like this:Like Loading...\n\n	Related\n
URL:https://www.fvheritage.org/event/music-event-christmas-music-carols-the-hope-choir-3/
CATEGORIES:Music
ATTACH;FMTTYPE=image/png:https://www.fvheritage.org/wp-content/uploads/2020/11/picture-for-website-change-date.png
ORGANIZER;CN="Stella%20Ciorra":MAILTO:stella@fvheritage.org
END:VEVENT
END:VCALENDAR