BEGIN:VCALENDAR
VERSION:2.0
PRODID:-//Friends of Vietnam Heritage - ECPv4.6.21//NONSGML v1.0//EN
CALSCALE:GREGORIAN
METHOD:PUBLISH
X-WR-CALNAME:Friends of Vietnam Heritage
X-ORIGINAL-URL:https://www.fvheritage.org
X-WR-CALDESC:Events for Friends of Vietnam Heritage
BEGIN:VEVENT
DTSTART;TZID=Asia/Ho_Chi_Minh:20191213T093000
DTEND;TZID=Asia/Ho_Chi_Minh:20191213T113000
DTSTAMP:20260420T125706
CREATED:20191121T093903Z
LAST-MODIFIED:20191121T093903Z
UID:1387-1576229400-1576236600@www.fvheritage.org
SUMMARY:Hanoi City Walk (Japanese) - Hàng Da Market Area (日本語でのツアーです）
DESCRIPTION:ハノイ街歩き：ハンザ市場周辺 \n1人ではなかなか歩きにくい旧市街。今回は、ハンザ市場からスタートし、Tạm Thương通りなど小道を散策しながら、李朝第三代皇帝の妃が祀られているイエンタイ亭やハンザ市場近くの古いヴィラなど、ハンザ市場周辺をご案内いたします。歩道が狭く、交通量の多い通りも歩きますので、歩きやすい靴でお越し下さい。 \n日時：12月13日（金曜日）9:30～11:30AM \n集合場所：ハンザ市場正面玄関 (Chợ Hàng Da ; 住所Hàng Da Street\, Hoàn Kiếm) \n費用：70\,000VND（入場料別途） \n定員：8名 \n申込み先：https://forms.gle/U6FkrKrMsUP7HgsS8 \nご質問等はこちらのメールまで \nfvh.citywalks.japanese@gmail.com  \n（担当：金山、林） \nPlease follow and like us:Share this:Click to share on Facebook (Opens in new window)Click to share on Twitter (Opens in new window)Click to share on WhatsApp (Opens in new window)Click to share on Skype (Opens in new window)Click to share on Tumblr (Opens in new window)Click to share on Google+ (Opens in new window)Click to share on LinkedIn (Opens in new window)Click to share on Pocket (Opens in new window)Click to share on Pinterest (Opens in new window)Click to print (Opens in new window)Like this:Like Loading...\n\n	Related\n
URL:https://www.fvheritage.org/event/hanoi-city-walk-japanese-hang-da-market-area-%e6%97%a5%e6%9c%ac%e8%aa%9e%e3%81%a7%e3%81%ae%e3%83%84%e3%82%a2%e3%83%bc%e3%81%a7%e3%81%99%ef%bc%89/
CATEGORIES:City Walks
ATTACH;FMTTYPE=image/jpeg:https://www.fvheritage.org/wp-content/uploads/2019/11/Hang-Da-Photo.jpg
END:VEVENT
END:VCALENDAR