BEGIN:VCALENDAR
VERSION:2.0
PRODID:-//Friends of Vietnam Heritage - ECPv4.6.21//NONSGML v1.0//EN
CALSCALE:GREGORIAN
METHOD:PUBLISH
X-WR-CALNAME:Friends of Vietnam Heritage
X-ORIGINAL-URL:https://www.fvheritage.org
X-WR-CALDESC:Events for Friends of Vietnam Heritage
BEGIN:VEVENT
DTSTART;TZID=Asia/Ho_Chi_Minh:20231205T100000
DTEND;TZID=Asia/Ho_Chi_Minh:20231205T113000
DTSTAMP:20260425T162158
CREATED:20231114T162848Z
LAST-MODIFIED:20231117T063712Z
UID:3995-1701770400-1701775800@www.fvheritage.org
SUMMARY:Hanoi City Walk (Japanese) - City Walk:  City Walk: Nha Tho street 旧市街ツアー(日本語でのツアー です）
DESCRIPTION:\n\n\nハノイ街歩き： Nha Tho street 旧市街ツアー\nこのツアーは、 Nha Tho 通りの突き当たりにある教会を起点\nに、旧市街をのんびりと散策します。\n普段、車ではあまり通らない旧市街の細い路地を歩き なが\nら、 通り にまつわる お話や寺院などをご紹介いたします。\n日時： 2023 年 12 月 5 日（火曜日） 9： 50（集合）～\n1 時間 40 分程度\n集合場所： 40 Nha Chung(大教会)\n費用： 100\,000VND\n定員： 8 名\n申込み先： https://forms.gle/78Tpcota97hcMP137\n\n\n\n  \n  \n\n\n\nご質問等はこちらのメールまで\nfvh.citywalks.japanese@gmail.com\n（担当：齋藤、升岡、横田）\n\n\n\n  \nPlease follow and like us:Share this:Click to share on Facebook (Opens in new window)Click to share on Twitter (Opens in new window)Click to share on WhatsApp (Opens in new window)Click to share on Skype (Opens in new window)Click to share on Tumblr (Opens in new window)Click to share on Google+ (Opens in new window)Click to share on LinkedIn (Opens in new window)Click to share on Pocket (Opens in new window)Click to share on Pinterest (Opens in new window)Click to print (Opens in new window)Like this:Like Loading...\n\n	Related\n
URL:https://www.fvheritage.org/event/hanoi-city-walk-japanese-city-walk-nha-tho-street-%e6%97%a7%e5%b8%82%e8%a1%97%e3%83%84%e3%82%a2%e3%83%bc%e6%97%a5%e6%9c%ac%e8%aa%9e%e3%81%a7%e3%81%ae%e3%83%84%e3%82%a2%e3%83%bc-%e3%81%a7/
CATEGORIES:City Walks
ATTACH;FMTTYPE=image/jpeg:https://www.fvheritage.org/wp-content/uploads/2023/11/Nha-Tho-street.jpg
END:VEVENT
END:VCALENDAR