BEGIN:VCALENDAR
VERSION:2.0
PRODID:-//Friends of Vietnam Heritage - ECPv4.6.21//NONSGML v1.0//EN
CALSCALE:GREGORIAN
METHOD:PUBLISH
X-WR-CALNAME:Friends of Vietnam Heritage
X-ORIGINAL-URL:https://www.fvheritage.org
X-WR-CALDESC:Events for Friends of Vietnam Heritage
BEGIN:VEVENT
DTSTART;TZID=Asia/Ho_Chi_Minh:20250604T100000
DTEND;TZID=Asia/Ho_Chi_Minh:20250604T120000
DTSTAMP:20260422T083343
CREATED:20250510T030311Z
LAST-MODIFIED:20250510T030706Z
UID:5348-1749031200-1749038400@www.fvheritage.org
SUMMARY:Hanoi City Walk (Japanese) a.m: Vietnam Museum of Ethnology (日本語でのツア ーです）
DESCRIPTION:ハノイ街歩き：ベトナム民族学博物館ツアー \nベトナムに暮らす５４の民族を紹介した博物館です。民族衣装、生活雑貨、古民家の見学を通じて、少数民族への理解を深めましょう。地方から移築した住宅に入りますので、着脱しやすい靴でおいでください。 \n日時： 6 月 4 日（水） 9:50～2 時間程度 \n集合場所： お申込み後、 別途ご連絡します。 \n費用： 100\,000VND （入場料 40\,000VND 別途） \n定員： 8 名 \n申込み先： https://forms.gle/fg8ZSaxSc6Vfus2V6 \nご質問等はこちらのメールまで \nfvh.citywalks.japanese@gmail.com  （担当： 吉澤、 大森、 安部） \n  \n  \n©1999 Friends of Vietnam Heritage. All rights reserved. All city walks and excursions run by Friends of Vietnam Heritage are specially created by\, and are the property of\, Friends of Vietnam Heritage. You cannot use the ideas and content\, copy\, modify or publish these or any other activity without the express permission of Friends of Vietnam. Our activities are not to be used for commercial purposes. \n  \nPlease follow and like us:Share this:Click to share on Facebook (Opens in new window)Click to share on Twitter (Opens in new window)Click to share on WhatsApp (Opens in new window)Click to share on Skype (Opens in new window)Click to share on Tumblr (Opens in new window)Click to share on Google+ (Opens in new window)Click to share on LinkedIn (Opens in new window)Click to share on Pocket (Opens in new window)Click to share on Pinterest (Opens in new window)Click to print (Opens in new window)Like this:Like Loading...\n\n	Related\n
URL:https://www.fvheritage.org/event/hanoi-city-walk-japanese-a-m-vietnam-museum-of-ethnology-%e6%97%a5%e6%9c%ac%e8%aa%9e%e3%81%a7%e3%81%ae%e3%83%84%e3%82%a2-%e3%83%bc%e3%81%a7%e3%81%99%ef%bc%89/
CATEGORIES:City Walks
ATTACH;FMTTYPE=image/jpeg:https://www.fvheritage.org/wp-content/uploads/2023/05/ethnology-museum.jpg
END:VEVENT
END:VCALENDAR