BEGIN:VCALENDAR
VERSION:2.0
PRODID:-//Friends of Vietnam Heritage - ECPv4.6.21//NONSGML v1.0//EN
CALSCALE:GREGORIAN
METHOD:PUBLISH
X-WR-CALNAME:Friends of Vietnam Heritage
X-ORIGINAL-URL:https://www.fvheritage.org
X-WR-CALDESC:Events for Friends of Vietnam Heritage
BEGIN:VEVENT
DTSTART;TZID=Asia/Ho_Chi_Minh:20190915T093000
DTEND;TZID=Asia/Ho_Chi_Minh:20190915T120000
DTSTAMP:20260415T012749
CREATED:20190813T060923Z
LAST-MODIFIED:20190824T045023Z
UID:1075-1568539800-1568548800@www.fvheritage.org
SUMMARY:Hanoi city walk (English) - Bạch Mã temple and surrounding area
DESCRIPTION:Welcome to a stroll around some of Hanoi’s Old Quarter and the ’36 Streets’. \nThis is the Bạch Mã temple walk where we discover why a white horse was so instrumental in the building of the Thang Long citadel\, how the trade of Hàng Buồm street today with its alcohol shops and bars is a far cry from its original trade\, we visit a number of lesser known and hidden places of worship and find hidden alleys. \nWe start at Hàng Buồm\,  Bạch Mã temple and end at Ngo Gach Street\, once a river 1\,000 years ago. \nRSVP to Stella \nWelcome to FVH’s 20th anniversary year \n \nPlease follow and like us:Share this:Click to share on Facebook (Opens in new window)Click to share on Twitter (Opens in new window)Click to share on WhatsApp (Opens in new window)Click to share on Skype (Opens in new window)Click to share on Tumblr (Opens in new window)Click to share on Google+ (Opens in new window)Click to share on LinkedIn (Opens in new window)Click to share on Pocket (Opens in new window)Click to share on Pinterest (Opens in new window)Click to print (Opens in new window)Like this:Like Loading...\n\n	Related\n
URL:https://www.fvheritage.org/event/hanoi-city-walk-english-bach-ma-temple/
CATEGORIES:City Walks
ATTACH;FMTTYPE=image/png:https://www.fvheritage.org/wp-content/uploads/2019/08/website.png
ORGANIZER;CN="Stella%20Ciorra":MAILTO:stella@fvheritage.org
END:VEVENT
END:VCALENDAR