BEGIN:VCALENDAR
VERSION:2.0
PRODID:-//Friends of Vietnam Heritage - ECPv4.6.21//NONSGML v1.0//EN
CALSCALE:GREGORIAN
METHOD:PUBLISH
X-WR-CALNAME:Friends of Vietnam Heritage
X-ORIGINAL-URL:https://www.fvheritage.org
X-WR-CALDESC:Events for Friends of Vietnam Heritage
BEGIN:VEVENT
DTSTART;TZID=Asia/Ho_Chi_Minh:20250824T093000
DTEND;TZID=Asia/Ho_Chi_Minh:20250824T120000
DTSTAMP:20260422T043428
CREATED:20250809T071657Z
LAST-MODIFIED:20250822T080934Z
UID:5430-1756027800-1756036800@www.fvheritage.org
SUMMARY:Hanoi City Walk (ENG) a.m.  Hàng Da market area (old quarter) -  POSTPONED
DESCRIPTION:POSTPONED DUE TO ROAD CLOSURES FOR NATIONAL DAY PARADE.  \nThis morning’s walk explores the area around Hàng Da market. We learn about the original trade of the surrounding streets\, what the concept of Tuong Theatre is\, who was the master embroiderer\, why was Princess Y Lan  given this name\, find out where a former FVH friend lived – Nguyen Van Quy who composed 9 sonatas for the violin and piano (Beethoven of Vietnam)\, discover a hidden old villa and explore alleyways you may not have wandered down before. \nPlease RSVP to Loan (include your mobile number)  phuongloan2704@gmail.com \nNumbers – max 8 people \nWelcome email will be sent to those confirmed on the walk \n(NB as per all walks at this time of year – its subject to the weather regarding rain) \n©1999 Friends of Vietnam Heritage. All rights reserved. All city walks and excursions run by Friends of Vietnam Heritage are specially created by\, and are the property of\, Friends of Vietnam Heritage. You cannot use the ideas and content\, copy\, modify or publish these or any other activity without the express permission of Friends of Vietnam. Our activities are not to be used for commercial purposes. \n  \nPlease follow and like us:Share this:Click to share on Facebook (Opens in new window)Click to share on Twitter (Opens in new window)Click to share on WhatsApp (Opens in new window)Click to share on Skype (Opens in new window)Click to share on Tumblr (Opens in new window)Click to share on Google+ (Opens in new window)Click to share on LinkedIn (Opens in new window)Click to share on Pocket (Opens in new window)Click to share on Pinterest (Opens in new window)Click to print (Opens in new window)Like this:Like Loading...\n\n	Related\n
URL:https://www.fvheritage.org/event/hanoi-city-walk-eng-a-m-hang-da-market-area-old-quarter/
CATEGORIES:City Walks
ATTACH;FMTTYPE=image/jpeg:https://www.fvheritage.org/wp-content/uploads/2021/12/hang-da.jpg
END:VEVENT
END:VCALENDAR