BEGIN:VCALENDAR
VERSION:2.0
PRODID:-//Friends of Vietnam Heritage - ECPv4.6.21//NONSGML v1.0//EN
CALSCALE:GREGORIAN
METHOD:PUBLISH
X-WR-CALNAME:Friends of Vietnam Heritage
X-ORIGINAL-URL:https://www.fvheritage.org
X-WR-CALDESC:Events for Friends of Vietnam Heritage
BEGIN:VEVENT
DTSTART;TZID=Asia/Ho_Chi_Minh:20250928T090000
DTEND;TZID=Asia/Ho_Chi_Minh:20250928T113000
DTSTAMP:20260422T024146
CREATED:20250817T135153Z
LAST-MODIFIED:20250906T031808Z
UID:5442-1759050000-1759059000@www.fvheritage.org
SUMMARY:Hanoi City walk (ENG a.m) - Foggy Nights and Misty Mornings - FULL
DESCRIPTION:THIS WALK IS FULL. PLEASE RSVP FOR THE WAITING LIST. THANKS \nTây Hồ  past and present \nA new FVH walk focused on a very well known area for many of us but you may be surprised to discover new areas and alleys within this familiar homely neighbourhood. \nLet’s go exploring the former villages of Nghi Tàm and Tứ Liên  in the Southeast of Tây Hồ\, where on foggy nights and misty mornings  history was made  and legends were born. \nWe will take a leisurely morning stroll along little lanes of history\, hearing stories from both peaceful troubled times and look for traces of how quiet villages developed into our present day neighborhood of quirky modernity. \n  \nPlease RSVP by email to fvhcitymuseumwalk@gmail.com \nNumbers 5 to max 8 people (please include your mobile number when RSVPing) \nMeet. 9am – full details and exact meeting point will be sent to those confirmed on the walk. \n  \n©1999 Friends of Vietnam Heritage. All rights reserved. All walks and excursions run by Friends of Vietnam Heritage are specially created by\, and are the property of\, Friends of Vietnam Heritage. You cannot use the ideas and content\, copy\, modify or publish these or any other activity without the express permission of Friends of Vietnam Heritage. Our activities are not to be used for commercial purposes. \nPlease follow and like us:Share this:Click to share on Facebook (Opens in new window)Click to share on Twitter (Opens in new window)Click to share on WhatsApp (Opens in new window)Click to share on Skype (Opens in new window)Click to share on Tumblr (Opens in new window)Click to share on Google+ (Opens in new window)Click to share on LinkedIn (Opens in new window)Click to share on Pocket (Opens in new window)Click to share on Pinterest (Opens in new window)Click to print (Opens in new window)Like this:Like Loading...\n\n	Related\n
URL:https://www.fvheritage.org/event/hanoi-city-walk-eng-a-m-foggy-nights-and-misty-mornings-nghi-tam/
CATEGORIES:City Walks
ATTACH;FMTTYPE=image/jpeg:https://www.fvheritage.org/wp-content/uploads/2025/08/walk.jpg
END:VEVENT
END:VCALENDAR