BEGIN:VCALENDAR
VERSION:2.0
PRODID:-//Friends of Vietnam Heritage - ECPv4.6.21//NONSGML v1.0//EN
CALSCALE:GREGORIAN
METHOD:PUBLISH
X-WR-CALNAME:Friends of Vietnam Heritage
X-ORIGINAL-URL:https://www.fvheritage.org
X-WR-CALDESC:Events for Friends of Vietnam Heritage
BEGIN:VEVENT
DTSTART;TZID=Asia/Ho_Chi_Minh:20250831T140000
DTEND;TZID=Asia/Ho_Chi_Minh:20250831T170000
DTSTAMP:20260422T023444
CREATED:20250701T141800Z
LAST-MODIFIED:20250830T060352Z
UID:5387-1756648800-1756659600@www.fvheritage.org
SUMMARY:Cultural Series (p.m): Lecture - Confucius and confucianism
DESCRIPTION:This month’s lecture  with Dr Trần Đoàn Lâm at the Đình Làng Việt venue  features Confucius and Confucianism.  This belief is a philosophy and ethical system which has underpinned Vietnam’s culture and political landscape for centuries.  Its a huge topic and Lâm  can only cover the essentials in one afternoon; the agenda will include a section on education and the Confucian court examinations (which made a huge impact on the culture and social order in Vietnam)\, as well as the main elements of this belief and some quirky facts. \nPlease RSVP to stella@fvheritage.org \nVND 250\,000 includes donation to our hosts/venue and refreshments \nNumbers 8 to 20 pax \nVenue: Dinh Lang Viet Space\, in the heart of the Trung Tu/Dang Van Ngu dormitory area.  For those not familiar with the venue detailed information will be sent to those confirmed on the event. \n(allow 2.5 hours but may be longer given the topic) \n  \n  \nPlease follow and like us:Share this:Click to share on Facebook (Opens in new window)Click to share on Twitter (Opens in new window)Click to share on WhatsApp (Opens in new window)Click to share on Skype (Opens in new window)Click to share on Tumblr (Opens in new window)Click to share on Google+ (Opens in new window)Click to share on LinkedIn (Opens in new window)Click to share on Pocket (Opens in new window)Click to share on Pinterest (Opens in new window)Click to print (Opens in new window)Like this:Like Loading...\n\n	Related\n
URL:https://www.fvheritage.org/event/cultural-series-p-m-lecture-confucius-and-confucianism/
CATEGORIES:Culture Series,History & Lectures
ATTACH;FMTTYPE=image/jpeg:https://www.fvheritage.org/wp-content/uploads/2025/07/poster.jpg
END:VEVENT
END:VCALENDAR