BEGIN:VCALENDAR
VERSION:2.0
PRODID:-//Friends of Vietnam Heritage - ECPv4.6.21//NONSGML v1.0//EN
CALSCALE:GREGORIAN
METHOD:PUBLISH
X-WR-CALNAME:Friends of Vietnam Heritage
X-ORIGINAL-URL:https://www.fvheritage.org
X-WR-CALDESC:Events for Friends of Vietnam Heritage
BEGIN:VEVENT
DTSTART;TZID=Asia/Ho_Chi_Minh:20251221T150000
DTEND;TZID=Asia/Ho_Chi_Minh:20251221T170000
DTSTAMP:20260416T031600
CREATED:20251201T033419Z
LAST-MODIFIED:20251216T032618Z
UID:5657-1766329200-1766336400@www.fvheritage.org
SUMMARY:Craft workshop (p.m): Ethnic minority textile Christmas decorations - POSTPONED
DESCRIPTION:THIS WORKSHOP IS POSTPONED. WE WILL HOLD THE NEXT CHIE WOKRHSHOP ONE SATURDAY OR SUNDAY AFTERNOON TO MAKE SOMEHING RELEVANT FOR TET. THANKS.  \nThis is now a regular feature in the December calender  – making 3 types of hanging Christmas deocrations \nIn 2023 we started to run some workshops with Huyen of Textile Linker fame. She teamed up with Thuy who founded Chie Dù Pù Dù Pà in Hang Trong street to run craft workshops.   For December  we are making christmas decorations such as a star\, Christmas tree\, moon\, boot/Christmas stocking. \nA few lovely hours in the afternoon starting at 3pm making Christmas decorations.  We hand sew the items all the way round and add a little stuffing to hang on Christmas trees or give away as presents. For those more advanced in sewing you and embroider and embellish your creations (items circled in the photo below). \n \nPer person: 390\,000 VND (same price for everyone) \nNumbers: 8 to max 10 people \nVenue: Chie Dù Pù Dù Pà\, in Hang Trong street \nRSVP: to stella@fvheritage.org \nPlease follow and like us:Share this:Click to share on Facebook (Opens in new window)Click to share on Twitter (Opens in new window)Click to share on WhatsApp (Opens in new window)Click to share on Skype (Opens in new window)Click to share on Tumblr (Opens in new window)Click to share on Google+ (Opens in new window)Click to share on LinkedIn (Opens in new window)Click to share on Pocket (Opens in new window)Click to share on Pinterest (Opens in new window)Click to print (Opens in new window)Like this:Like Loading...\n\n	Related\n
URL:https://www.fvheritage.org/event/craft-workshop-p-m-ethnic-minority-textile-christmas-decorations-2/
CATEGORIES:Workshop
ATTACH;FMTTYPE=image/jpeg:https://www.fvheritage.org/wp-content/uploads/2024/10/PDF-poster.jpg
END:VEVENT
END:VCALENDAR