BEGIN:VCALENDAR
VERSION:2.0
PRODID:-//Friends of Vietnam Heritage - ECPv4.6.21//NONSGML v1.0//EN
CALSCALE:GREGORIAN
METHOD:PUBLISH
X-WR-CALNAME:Friends of Vietnam Heritage
X-ORIGINAL-URL:https://www.fvheritage.org
X-WR-CALDESC:Events for Friends of Vietnam Heritage
BEGIN:VEVENT
DTSTART;TZID=Asia/Ho_Chi_Minh:20260405T093000
DTEND;TZID=Asia/Ho_Chi_Minh:20260405T113000
DTSTAMP:20260415T233033
CREATED:20260225T184233Z
LAST-MODIFIED:20260323T015019Z
UID:5778-1775381400-1775388600@www.fvheritage.org
SUMMARY:Craft workshop – origami Year of the Horse (năm Bính Ngọ 2026) - FULL
DESCRIPTION:THIS WORKSHOP IS NOW FULL. PLEASE RSVP FOR THE WAITING LIST. THANKS \nOrigami is the Japanese art of paper folding. In modern usage\, the word “origami” is often used as an inclusive term for all folding practices\, regardless of their culture of origin…. (Wikipedia) \nWe have just entered the Year of the Fire Horse\, which is a very relevant topic for an origami workshop and in celebration of those of us who are the year of the horse. \nOrigami artist Hoàng Tiến Quyết will guide us in how to make a paper horse. To keep it as relevant as possible to Vietnam we will fold with traditional Vietnamese dó paper (that has been layered with glue to strenghten the paper).  Quyết’s website explains “I have been folding paper since I was a small kid. At the time I was amazed at how a flat sheet of paper could transform into beautiful 3D animals and objects\, and it was also a joy of a kid who could make his own toys.  I kept folding alone for a long time\, till I found Vietnam Origami Group forum ……I like working with new and fresh ideas\, and always try to breathe life and my personality into my models. I hope people can also feel that from my work” \nAnd more info about Quyếtand his work here:  https://htquyet.origami.vn/about \nProgramme \n\nIntroduction to Quyết\nStory of the 12 animal years in Vietnam\nPaper types\nIntroduction to the art of origami\nFold your own horse\n\nPlease RSVP to stella@fvheritage.org \nVenue: at Nhung and Linh’s studio off Kim Ma\, map and location will be sent to those confirmed \nAmount: 390\,000 VND pp (same price for everyone) to include instruction and material \nNumbers: ideal 6 to very max  8 pax due to space restrictions \n(this workshop is rescheduled from 8 March to 5 April) \n  \nPlease follow and like us:Share this:Click to share on Facebook (Opens in new window)Click to share on Twitter (Opens in new window)Click to share on WhatsApp (Opens in new window)Click to share on Skype (Opens in new window)Click to share on Tumblr (Opens in new window)Click to share on Google+ (Opens in new window)Click to share on LinkedIn (Opens in new window)Click to share on Pocket (Opens in new window)Click to share on Pinterest (Opens in new window)Click to print (Opens in new window)Like this:Like Loading...\n\n	Related\n
URL:https://www.fvheritage.org/event/craft-workshop-origami-year-of-the-horse-nam-binh-ngo-2026/
CATEGORIES:Workshop
ATTACH;FMTTYPE=image/jpeg:https://www.fvheritage.org/wp-content/uploads/2026/02/new.jpg
END:VEVENT
END:VCALENDAR