BEGIN:VCALENDAR
VERSION:2.0
PRODID:-//Friends of Vietnam Heritage - ECPv4.6.21//NONSGML v1.0//EN
CALSCALE:GREGORIAN
METHOD:PUBLISH
X-WR-CALNAME:Friends of Vietnam Heritage
X-ORIGINAL-URL:https://www.fvheritage.org
X-WR-CALDESC:Events for Friends of Vietnam Heritage
BEGIN:VEVENT
DTSTART;TZID=Asia/Ho_Chi_Minh:20231125T093000
DTEND;TZID=Asia/Ho_Chi_Minh:20231125T120000
DTSTAMP:20260425T144436
CREATED:20231102T025646Z
LAST-MODIFIED:20231104T144856Z
UID:3983-1700904600-1700913600@www.fvheritage.org
SUMMARY:Craft workshop - ethnic minority fabric stuffed elephant - FULL
DESCRIPTION:THIS WORKSHOP IS NOW FULL.   PLEASE RSVP FOR THE WAITING LIST. THANKS \nWe are back at Chie for this month’s fabric workshop.\nFor November we make our own stuffed elephant \nMany of you probably know Huyen\, who started Textile Linker – dedicated to exploring traditional Vietnamese crafts. She has teamed up with Thuy who founded Chie Dù Pù Dù Pà in Hang Trong street to run a number of craft workshops.  Huyen is tailoring some of the workshops for FVH and including some informative introductory talks which relate to the particular workshop. \nWe started the month making origami cats\, and end it creating our own ethnic minority fabric stuffed elephant. \n“Elephants have an enormous cultural and religious significance in Vietnam. Historically\, images of elephants and of national heroes were often associated. During the Nguyen Dynasty ( 1802 – 1945)\, domestic elephants graced the Royal Courts and were revered by some of Vietnam’s ethnic minorities” (from EleAid) \nWe start with a half hour talk/show and tell about the ethnic minorities who contribute to this social enterprise and learn about some of the symbols and motifs that are both individual and common to these various groups. Then we spend a lovely few hours in creative bliss creating our own cute elephant\, with stuffing and sewing and you can give him/her some individuality too. \nMin 5\, max 8 people for this workshop to run – the per person prices is based on a minimum of 5 people (the workshop is more intricate\, more material and instruction needed) \nIncludes talk beforehand on an area relating to the crafts at Chie\, herbal tea\, green bean cake\, instruction and materials \n460\,000 VND per person (same price for everyone) \nMax 8 people  \nVenue: Chie Dù Pù Dù Pà\, in Hang Trong street \nFVH gets a discount on existing workshops\, tailored to use with more information. \n  \nPlease follow and like us:Share this:Click to share on Facebook (Opens in new window)Click to share on Twitter (Opens in new window)Click to share on WhatsApp (Opens in new window)Click to share on Skype (Opens in new window)Click to share on Tumblr (Opens in new window)Click to share on Google+ (Opens in new window)Click to share on LinkedIn (Opens in new window)Click to share on Pocket (Opens in new window)Click to share on Pinterest (Opens in new window)Click to print (Opens in new window)Like this:Like Loading...\n\n	Related\n
URL:https://www.fvheritage.org/event/craft-workshop-ethnic-minority-fabric-stuffed-elephant/
CATEGORIES:Workshop
ATTACH;FMTTYPE=image/jpeg:https://www.fvheritage.org/wp-content/uploads/2023/11/Chie-3.jpg
END:VEVENT
END:VCALENDAR