BEGIN:VCALENDAR
VERSION:2.0
PRODID:-//Friends of Vietnam Heritage - ECPv4.6.21//NONSGML v1.0//EN
CALSCALE:GREGORIAN
METHOD:PUBLISH
X-WR-CALNAME:Friends of Vietnam Heritage
X-ORIGINAL-URL:https://www.fvheritage.org
X-WR-CALDESC:Events for Friends of Vietnam Heritage
BEGIN:VEVENT
DTSTART;TZID=Asia/Ho_Chi_Minh:20250920T093000
DTEND;TZID=Asia/Ho_Chi_Minh:20250920T113000
DTSTAMP:20260415T232752
CREATED:20250906T024000Z
LAST-MODIFIED:20250906T024000Z
UID:5478-1758360600-1758367800@www.fvheritage.org
SUMMARY:Craft workshop (a.m): fabric fruit from ethnic minority textiles
DESCRIPTION:In 2023 we started running some  workshops with Huyen of Textile Linker fame who teamed up with Thuy who founded Chie Dù Pù Dù Pà in Hang Trong street to run craft workshops. \nAlways looking for a new item for a workshop\, this month we will make 3 frabric fruit. The bodies (the fruit are a fairly large size so will need a lot of cotton suffing) are pre-sewn\, and we fill them with cotton wool stuffing and hand sew to secure.  We sew on the leaf and stems. For those who are more advanced in sewing you are welcome to emboider patterns on your fruit. We are pretty sure that this workshop will be easier than the others\, it looks simple hence may be a few hours in duration. \n \n  \nNumbers – Min 5\, very max 10 people for this workshop to run. \nAmount – VND 390\,000 pp\, includes instruction\, all materials\, herbal tea\, and green bean cake\, and we make 3 fruit each. \nVenue – Chie Dù Pù Dù Pà\, in Hang Trong street \nRSVP – Stella@fvheritage.org \nWelcome email will be sent to those confirmed on the workshop a few days before \nPlease follow and like us:Share this:Click to share on Facebook (Opens in new window)Click to share on Twitter (Opens in new window)Click to share on WhatsApp (Opens in new window)Click to share on Skype (Opens in new window)Click to share on Tumblr (Opens in new window)Click to share on Google+ (Opens in new window)Click to share on LinkedIn (Opens in new window)Click to share on Pocket (Opens in new window)Click to share on Pinterest (Opens in new window)Click to print (Opens in new window)Like this:Like Loading...\n\n	Related\n
URL:https://www.fvheritage.org/event/craft-workshop-a-m-fabric-fruit-from-ethnic-minority-textiles/
CATEGORIES:Workshop
ATTACH;FMTTYPE=image/jpeg:https://www.fvheritage.org/wp-content/uploads/2024/10/PDF-poster.jpg
END:VEVENT
END:VCALENDAR