BEGIN:VCALENDAR
VERSION:2.0
PRODID:-//Friends of Vietnam Heritage - ECPv4.6.21//NONSGML v1.0//EN
CALSCALE:GREGORIAN
METHOD:PUBLISH
X-WR-CALNAME:Friends of Vietnam Heritage
X-ORIGINAL-URL:https://www.fvheritage.org
X-WR-CALDESC:Events for Friends of Vietnam Heritage
BEGIN:VEVENT
DTSTART;TZID=Asia/Ho_Chi_Minh:20250819T190000
DTEND;TZID=Asia/Ho_Chi_Minh:20250819T203000
DTSTAMP:20260422T043126
CREATED:20250811T034729Z
LAST-MODIFIED:20250811T034729Z
UID:5438-1755630000-1755635400@www.fvheritage.org
SUMMARY:Bookclub - The Emperor of Gladness\, by Ocean Vuong
DESCRIPTION:Please follow and like us:Share this:Click to share on Facebook (Opens in new window)Click to share on Twitter (Opens in new window)Click to share on WhatsApp (Opens in new window)Click to share on Skype (Opens in new window)Click to share on Tumblr (Opens in new window)Click to share on Google+ (Opens in new window)Click to share on LinkedIn (Opens in new window)Click to share on Pocket (Opens in new window)Click to share on Pinterest (Opens in new window)Click to print (Opens in new window)Like this:Like Loading...\n\n	Related\n
URL:https://www.fvheritage.org/event/bookclub-the-emperor-of-gladness-by-ocean-vuong/
CATEGORIES:Books
ATTACH;FMTTYPE=image/jpeg:https://www.fvheritage.org/wp-content/uploads/2025/08/19-aug-2025-bookclub.jpg
END:VEVENT
END:VCALENDAR