BEGIN:VCALENDAR
VERSION:2.0
PRODID:-//Friends of Vietnam Heritage - ECPv4.6.21//NONSGML v1.0//EN
CALSCALE:GREGORIAN
METHOD:PUBLISH
X-WR-CALNAME:Friends of Vietnam Heritage
X-ORIGINAL-URL:https://www.fvheritage.org
X-WR-CALDESC:Events for Friends of Vietnam Heritage
BEGIN:VEVENT
DTSTART;TZID=Asia/Ho_Chi_Minh:20190404T183000
DTEND;TZID=Asia/Ho_Chi_Minh:20190404T210000
DTSTAMP:20260419T184820
CREATED:20190327T084236Z
LAST-MODIFIED:20190327T084236Z
UID:855-1554402600-1554411600@www.fvheritage.org
SUMMARY:Book Club: I see yellow flowers in the green grass
DESCRIPTION:For April 2019 we will be reading for FVH bookclub members \nI see yellow flower in the green grass by Nguyen Nhat Anh \n‘I See Yellow Flowers in the Green Grass’ is a story of childhood in a poor village in central Vietnam\, a childhood that belonged to this very author. \nWhen writing this story\, it has been my hope that you\, reader\, will meet some part of your own childhood here too.  \nKoike Natsu\, a college sophomore in Tokyo\, wrote to me after reading the Japanese translation of this story: “I see yellow flowers in the green grass stirs my nostalgia for innocent days. When I were little\, I also used to play with a toad just like Tường\, but I no longer see those animals around my house anymore. People from the city often say\, ‘the countryside is so boring\, there’s nothing happening there.’ But I don’t think the same. There’s so much in villages to learn about\, as your book shows us. Thiều’s village is full of beautiful landscapes\, grasses and trees\, wind\, plus all kind of insects. In Tokyo\, such serene spaces are being lost day by day. I have a great nostalgia for them.” \nI share Koike Natsu’s feeling\, as I always acutely miss the absence of my own childhood. The world of childhood haunts me. I often ache for the old innocent days\, often when I am aware of being so distant from them now. The only way I can possibly draw them back to me is to write. I see yellow flowers in the green grass is among my attempts to realize this desire. \nI hope you can meet your own childhood self in this book\, even when the life and habits of the kids in this book are not the same as yours. I believe that what belongs to the soul can be the same\, whenever and wherever you are.  \nI only have the simple wish that this book can be a map for you. A map with which you can find some paths back to the treasure that you thought was forever lost: your own magical Childhood.  \nI wish you a good trip.  \nNguyễn Nhật Ánh \nMovie trailer ( Eng sub.) https://www.youtube.com/watch?v=eme60jiV_Qk \nMeeting venue:  W Book Cafe – 46 Trần Hưng Đạo\, Hàng Bài\, Hoàn Kiếm\, Hà Nội RSVP attendance –Piu and Maria \nPlease follow and like us:Share this:Click to share on Facebook (Opens in new window)Click to share on Twitter (Opens in new window)Click to share on WhatsApp (Opens in new window)Click to share on Skype (Opens in new window)Click to share on Tumblr (Opens in new window)Click to share on Google+ (Opens in new window)Click to share on LinkedIn (Opens in new window)Click to share on Pocket (Opens in new window)Click to share on Pinterest (Opens in new window)Click to print (Opens in new window)Like this:Like Loading...\n\n	Related\n
URL:https://www.fvheritage.org/event/book-club-i-see-yellow-flowers-in-the-green-grass/
CATEGORIES:Books
ATTACH;FMTTYPE=image/png:https://www.fvheritage.org/wp-content/uploads/2019/03/yellow.png
END:VEVENT
END:VCALENDAR