BEGIN:VCALENDAR
VERSION:2.0
PRODID:-//Friends of Vietnam Heritage - ECPv4.6.21//NONSGML v1.0//EN
CALSCALE:GREGORIAN
METHOD:PUBLISH
X-WR-CALNAME:Friends of Vietnam Heritage
X-ORIGINAL-URL:http://www.fvheritage.org
X-WR-CALDESC:Events for Friends of Vietnam Heritage
BEGIN:VEVENT
DTSTART;TZID=Asia/Ho_Chi_Minh:20230528T083000
DTEND;TZID=Asia/Ho_Chi_Minh:20230528T150000
DTSTAMP:20260419T214728
CREATED:20230429T100848Z
LAST-MODIFIED:20230505T125326Z
UID:3510-1685262600-1685286000@www.fvheritage.org
SUMMARY:Study tour excursion - farming in Hòa Lạc (Hanoi) - FULL
DESCRIPTION:THIS IS EVENT IS NOW FULL. PLEASE ALSO RSVP FOR THE WAITING LIST. \nAt FVH we are always researching new topics and activities\, and we have recently made 2 lovely new friends with whom we will plan different events (lectures\, workshops and study tours) on the topic of agriculture. Today is a half day study tour focused on coffee production and dragon fruit farming in Hòa Lạc in the suburbs of Hanoi about 30 to 45mins from the centre of Hanoi (traffic depending). \nNguyễn Xuân Bang\, Senior Expert on Modern Agriculture Architecture Chief on Global Innovation Solutions\, AFOTECH \nDr Hoàng Thị Thu Duyến\, Director of Smart Agriculture and Sustainability Program\, Vietnam Japan University \nWhile these are their day jobs\, Bang and Duyến are involved in a number of agricultural initiatives and projects working with local farmers\, education and training into sustainable farming\, and they have their own organic coffee production. \nOur half excursion is in the form of a study tour which we hope will be interesting particularly for those who want to know more about organic farming in Vietnam\, the history of coffee production in Vietnam\, and exploring one of Vietnam’s most iconic fruits in detail – the Dragon Fruit  – Hoa\, one of the main organic farmers in the area will show us round his dragon fruit farms \n SUMMARY AGENDA \n\nDept Pan Pacific appx 8.15am to arrive about 9am at Vietnam National University (VNU)\, Hòa Lạc campus\nDiscussion with Bang and Duyến about the Hòa Lạc area (while there are loads of hi-tech parks and university campuses in the region\, a lot of farming still takes place and the countryside around is lovely and refreshing)\nVisit the dragon farms with farmer Hoa and learn about  dragon fruits and farming\, the different types and observe the trees close up.\nVisit a small area of land with newly planted coffee tree seedlings that Bang and Duyến are working on with the farmers and they will explain more about coffee farming\nSee the different types of soil in the area and the soil properties\nLearn about the process of grafting\nEarly lunch and discussion on the importance and history of agriculture in Vietnam and general conversation with Bang and Duyến about their passion for agriculture and the other projects they are involved in\nMove to the VNU campus opposite to visit the small workroom/lab where Duyến is doing a bean sprout soil experiment\nDepending on time and weather – exploration of some of the VNU campus (which is set in lovely countryside grounds)\nDepart Hòa Lạc about 2pm\n\n  \nPLEASE NOTE \n\nWeather – given it’s the end of May we of course expect it to be very hot. But we don’t want to delay starting our activities with Bang and Duyến – we are also hoping that the dragon fruit will start to come out in bloom – plus its nice countryside so a good chance to escape urban Hanoi and be within greenery\nAssuming hot\, humid\, sunny weather – for those who are confirmed please dress  suitably and bring enough comforts (fans\, water\, cooling spray\, sunglasses\, hats etc.) to feel comfortable -from about 9.30am to 11am we will be outside most of the time\nPlease be flexible re. the return time – this is the 1st time we have done this study tour so we may want to stay a bit longer longer or we may leave earlier\nSame fee for everyone to ensure FVH can cover the tour expenses\n\nPlease RSVP to Stella – stella@fvheritage.org \nMax 10 people (we are keeping this activity to a small group of interested people which also makes for good discussion) \nPlease follow and like us:Share this:Click to share on Facebook (Opens in new window)Click to share on Twitter (Opens in new window)Click to share on WhatsApp (Opens in new window)Click to share on Skype (Opens in new window)Click to share on Tumblr (Opens in new window)Click to share on Google+ (Opens in new window)Click to share on LinkedIn (Opens in new window)Click to share on Pocket (Opens in new window)Click to share on Pinterest (Opens in new window)Click to print (Opens in new window)Like this:Like Loading...\n\n	Related\n
URL:http://www.fvheritage.org/event/study-tour-excursion-farming-in-hoa-lac-hanoi/
CATEGORIES:Excursions,History & Lectures
ATTACH;FMTTYPE=image/jpeg:http://www.fvheritage.org/wp-content/uploads/2023/04/photo.jpg
END:VEVENT
END:VCALENDAR