BEGIN:VCALENDAR
VERSION:2.0
PRODID:-//Friends of Vietnam Heritage - ECPv4.6.21//NONSGML v1.0//EN
CALSCALE:GREGORIAN
METHOD:PUBLISH
X-WR-CALNAME:Friends of Vietnam Heritage
X-ORIGINAL-URL:http://www.fvheritage.org
X-WR-CALDESC:Events for Friends of Vietnam Heritage
BEGIN:VEVENT
DTSTART;TZID=Asia/Ho_Chi_Minh:20220626T150000
DTEND;TZID=Asia/Ho_Chi_Minh:20220626T160000
DTSTAMP:20260419T034904
CREATED:20220527T075741Z
LAST-MODIFIED:20220527T075741Z
UID:2951-1656255600-1656259200@www.fvheritage.org
SUMMARY:Hanoi Community Radio - Kaleidoscope Viet
DESCRIPTION:For our show this month we will be featuring a topic that is part of our early June programme – on Vietnam’s tea culture and specificially what makes snow shan tea so special. \n  \nPlease follow and like us:Share this:Click to share on Facebook (Opens in new window)Click to share on Twitter (Opens in new window)Click to share on WhatsApp (Opens in new window)Click to share on Skype (Opens in new window)Click to share on Tumblr (Opens in new window)Click to share on Google+ (Opens in new window)Click to share on LinkedIn (Opens in new window)Click to share on Pocket (Opens in new window)Click to share on Pinterest (Opens in new window)Click to print (Opens in new window)Like this:Like Loading...\n\n	Related\n
URL:http://www.fvheritage.org/event/hanoi-community-radio-kaleidoscope-viet/
CATEGORIES:History & Lectures
ATTACH;FMTTYPE=image/jpeg:http://www.fvheritage.org/wp-content/uploads/2021/10/FVH-HCR-show-logo.jpg
END:VEVENT
END:VCALENDAR