BEGIN:VCALENDAR
VERSION:2.0
PRODID:-//Friends of Vietnam Heritage - ECPv4.6.21//NONSGML v1.0//EN
CALSCALE:GREGORIAN
METHOD:PUBLISH
X-WR-CALNAME:Friends of Vietnam Heritage
X-ORIGINAL-URL:http://www.fvheritage.org
X-WR-CALDESC:Events for Friends of Vietnam Heritage
BEGIN:VEVENT
DTSTART;TZID=Asia/Ho_Chi_Minh:20190307T093000
DTEND;TZID=Asia/Ho_Chi_Minh:20190307T233000
DTSTAMP:20260424T193357
CREATED:20190212T181247Z
LAST-MODIFIED:20190212T181355Z
UID:819-1551951000-1552001400@www.fvheritage.org
SUMMARY:Hanoi City walks (Japanese) - Nha Tho tour (日本語でのツアーです）
DESCRIPTION:ハノイ街歩き：ニャートー周辺ツアー \nこのツアーは、普段お買い物通りとして有名なHang Gai通りから始まり、旧市街の小道を通り、大教会まで歩きます。 \n何気なく歩いている街中での通りにまつわるお話などをしながら、一緒に散策を楽しみませんか？ \n日時： 3月7日（木曜日）　9：30～2時間程度 \n集合場所：79 Hang Gai \n費用：　70\,000VND　（入場料別途） \n定員：　　8名 \n申込み先：https://goo.gl/forms/mQDYvnGvJGi2sryJ3 \n申込みはお１人様ずつお願い致します。 \n※申し込み方法を変更しました※ \n今後、申込日の設定がなくホームページに日本語ツアーの情報が掲載され次第、受付開始となります。随時、ホームページをご確認ください。 \n申込もGoogle フォームからお願いします。定員に達した時点で、申込ができなくなります。ご了承ください。 \nその他の問い合わせ：fvh.citywalks.japanese@gmail.com  \n（担当：岩崎、紙谷） \nPlease follow and like us:Share this:Click to share on Facebook (Opens in new window)Click to share on Twitter (Opens in new window)Click to share on WhatsApp (Opens in new window)Click to share on Skype (Opens in new window)Click to share on Tumblr (Opens in new window)Click to share on Google+ (Opens in new window)Click to share on LinkedIn (Opens in new window)Click to share on Pocket (Opens in new window)Click to share on Pinterest (Opens in new window)Click to print (Opens in new window)Like this:Like Loading...\n\n	Related\n
URL:http://www.fvheritage.org/event/hanoi-city-walks-japanese-nha-tho-tour-%e6%97%a5%e6%9c%ac%e8%aa%9e%e3%81%a7%e3%81%ae%e3%83%84%e3%82%a2%e3%83%bc%e3%81%a7%e3%81%99%ef%bc%89/
CATEGORIES:City Walks
ATTACH;FMTTYPE=image/jpeg:http://www.fvheritage.org/wp-content/uploads/2019/02/1517624792771.jpg
END:VEVENT
END:VCALENDAR