BEGIN:VCALENDAR
VERSION:2.0
PRODID:-//Friends of Vietnam Heritage - ECPv4.6.21//NONSGML v1.0//EN
CALSCALE:GREGORIAN
METHOD:PUBLISH
X-WR-CALNAME:Friends of Vietnam Heritage
X-ORIGINAL-URL:http://www.fvheritage.org
X-WR-CALDESC:Events for Friends of Vietnam Heritage
BEGIN:VEVENT
DTSTART;TZID=Asia/Ho_Chi_Minh:20220612T093000
DTEND;TZID=Asia/Ho_Chi_Minh:20220612T120000
DTSTAMP:20260418T200939
CREATED:20220527T073010Z
LAST-MODIFIED:20220531T142608Z
UID:2945-1655026200-1655035200@www.fvheritage.org
SUMMARY:Hanoi City Walks (ENG) - Lãn Ông Street (Old Quarter) - FULL
DESCRIPTION:THIS WALK IS NOW FULL. PLEASE RSVP FOR THE WAITING LIST WITH LOAN. \nIn this walk around part of the Old Quarter we discover Lãn Ông Street  – the street well-known for herbal medicine and the importance of oriental and complimentary medicine in the past and still today.  We will  tour the nearby streets looking at notable architecture\, religious buildings and history of the area including Chả Cá Street with its 100-year-old famous fish\nnoodle restaurant. \n6 spaces currentlly available \nplease RSVP (and include your mobile number) to Loan – email phuongloan2704@gmail.com \nPlease follow and like us:Share this:Click to share on Facebook (Opens in new window)Click to share on Twitter (Opens in new window)Click to share on WhatsApp (Opens in new window)Click to share on Skype (Opens in new window)Click to share on Tumblr (Opens in new window)Click to share on Google+ (Opens in new window)Click to share on LinkedIn (Opens in new window)Click to share on Pocket (Opens in new window)Click to share on Pinterest (Opens in new window)Click to print (Opens in new window)Like this:Like Loading...\n\n	Related\n
URL:http://www.fvheritage.org/event/hanoi-city-walks-eng-lan-ong-street-old-quarter/
CATEGORIES:City Walks
ATTACH;FMTTYPE=image/jpeg:http://www.fvheritage.org/wp-content/uploads/2022/05/lan-ong.jpg
END:VEVENT
END:VCALENDAR