BEGIN:VCALENDAR
VERSION:2.0
PRODID:-//Friends of Vietnam Heritage - ECPv4.6.21//NONSGML v1.0//EN
CALSCALE:GREGORIAN
METHOD:PUBLISH
X-WR-CALNAME:Friends of Vietnam Heritage
X-ORIGINAL-URL:http://www.fvheritage.org
X-WR-CALDESC:Events for Friends of Vietnam Heritage
BEGIN:VEVENT
DTSTART;TZID=Asia/Ho_Chi_Minh:20241012T130000
DTEND;TZID=Asia/Ho_Chi_Minh:20241012T150000
DTSTAMP:20260415T061539
CREATED:20240919T051900Z
LAST-MODIFIED:20241006T031936Z
UID:4593-1728738000-1728745200@www.fvheritage.org
SUMMARY:Hanoi City walk (Spanish) p.m: Hoàn Kiếm lake area/Lago Hoàn Kiếm
DESCRIPTION:Another popular walk which is led by Alvaro in Spanish (info below in ENG but the walk and google form are in Spanish) \nOur walk starts in front of the Lý Thái Tổ statue with a brief introduction to the founder of Hanoi.   As we stroll the surrounding streets bordering Hoan Kiem Lake\, Hanoi’s heart\, we  discuss legends\, points of interest\, the stories\, touch on architecture and the French influence. \nThis walk is a neat compact introduction to this part of the city and hopefully you will come away discovering something you did not know before about this familiar area \nThe walk is led by Alvaro \n1pm-3pm \nRoute Ly Thai To statue the long way tound to Ngoc Son temple \nNumbers max 10 pax \nPlease RSVP via this registration form \nWecome email will be sent by Alvaro 1 to 2 days before the walk to those confirmed on the walk \nPlease email if any problems RSVPing or questions – hello@fvheritage.org \n©1999 Friends of Vietnam Heritage. All rights reserved. All walking tours and excursions run by Friends of Vietnam Heritage are specially created by\, and are the property of\, Friends of Vietnam Heritage. You cannot use the ideas and content\, copy\, modify or publish these or any other activity without the express permission of Friends of Vietnam. Our activities are not to be used for commercial purposes. \n  \nPlease follow and like us:Share this:Click to share on Facebook (Opens in new window)Click to share on Twitter (Opens in new window)Click to share on WhatsApp (Opens in new window)Click to share on Skype (Opens in new window)Click to share on Tumblr (Opens in new window)Click to share on Google+ (Opens in new window)Click to share on LinkedIn (Opens in new window)Click to share on Pocket (Opens in new window)Click to share on Pinterest (Opens in new window)Click to print (Opens in new window)Like this:Like Loading...\n\n	Related\n
URL:http://www.fvheritage.org/event/hanoi-city-walk-spanish-hoan-kiem-lake-area-lago-hoan-kiem/
CATEGORIES:City Walks
ATTACH;FMTTYPE=image/png:http://www.fvheritage.org/wp-content/uploads/2018/09/alvaro-walk.png
END:VEVENT
END:VCALENDAR