BEGIN:VCALENDAR
VERSION:2.0
PRODID:-//Friends of Vietnam Heritage - ECPv4.6.21//NONSGML v1.0//EN
CALSCALE:GREGORIAN
METHOD:PUBLISH
X-WR-CALNAME:Friends of Vietnam Heritage
X-ORIGINAL-URL:http://www.fvheritage.org
X-WR-CALDESC:Events for Friends of Vietnam Heritage
BEGIN:VEVENT
DTSTART;TZID=Asia/Ho_Chi_Minh:20241028T100000
DTEND;TZID=Asia/Ho_Chi_Minh:20241028T120000
DTSTAMP:20260423T043848
CREATED:20241001T052924Z
LAST-MODIFIED:20241006T031852Z
UID:4604-1730109600-1730116800@www.fvheritage.org
SUMMARY:Hanoi City Walk (Japanese) a.m: Thang Long Imperial Citadel(日本語でのツアーです）
DESCRIPTION:\n\n\nハノイ街歩き：タンロン遺跡ツアー\n\n\n\n日時： 10月28日（月） 9：50～2時間程度\n集合場所：タンロン遺跡 Hoàng thành Thăng Long\n(住所：19c Hoàng Diệu\, Ba Đình\, Hà Nội)\n費用： 100\,000VND （入場料70\,000VND別途）\n“定員 : 8名”\n申込み先：https://forms.gle/MQKVcytn58446FKd7 \n  \nご質問等はこちらのメールまでfvh.citywalks.japanese@gmail.com\n（担当：内田、掘尾、吉澤） \n\n\n\nこのツアーでは2010年にUNESCO世界文化遺産に登録された「タンロン皇城」遺跡をご案内いたします。千年を超える豊かな歴史を持つハノイの政治的、文化的かつ精神的中心地を一緒に散策してみましょう。\n\n\n\n  \n  \n©1999 Friends of Vietnam Heritage. All rights reserved. All walking tours and excursions run by Friends of Vietnam Heritage are specially created by\, and are the property of\, Friends of Vietnam Heritage. You cannot use the ideas and content\, copy\, modify or publish these or any other activity without the express permission of Friends of Vietnam. Our activities are not to be used for commercial purposes. \nPlease follow and like us:Share this:Click to share on Facebook (Opens in new window)Click to share on Twitter (Opens in new window)Click to share on WhatsApp (Opens in new window)Click to share on Skype (Opens in new window)Click to share on Tumblr (Opens in new window)Click to share on Google+ (Opens in new window)Click to share on LinkedIn (Opens in new window)Click to share on Pocket (Opens in new window)Click to share on Pinterest (Opens in new window)Click to print (Opens in new window)Like this:Like Loading...\n\n	Related\n
URL:http://www.fvheritage.org/event/hanoi-city-walk-japanese-thang-long-imperial-citadel%e6%97%a5%e6%9c%ac%e8%aa%9e%e3%81%a7%e3%81%ae%e3%83%84%e3%82%a2%e3%83%bc%e3%81%a7%e3%81%99%ef%bc%89/
CATEGORIES:City Walks
ATTACH;FMTTYPE=image/png:http://www.fvheritage.org/wp-content/uploads/2018/05/citadel.png
END:VEVENT
END:VCALENDAR