BEGIN:VCALENDAR
VERSION:2.0
PRODID:-//Friends of Vietnam Heritage - ECPv4.6.21//NONSGML v1.0//EN
CALSCALE:GREGORIAN
METHOD:PUBLISH
X-WR-CALNAME:Friends of Vietnam Heritage
X-ORIGINAL-URL:http://www.fvheritage.org
X-WR-CALDESC:Events for Friends of Vietnam Heritage
BEGIN:VEVENT
DTSTART;TZID=Asia/Ho_Chi_Minh:20220422T090000
DTEND;TZID=Asia/Ho_Chi_Minh:20220422T113000
DTSTAMP:20260424T065240
CREATED:20220404T094800Z
LAST-MODIFIED:20220406T023034Z
UID:2814-1650618000-1650627000@www.fvheritage.org
SUMMARY:Hanoi City Walk (English) – Yết Kiêu street area - FULL
DESCRIPTION:THIS WALK IS FULL PEASE RSVP FOR THE WAITING LIST. \nWe start our stroll from outside the Friendship culture palace on  Trần Hưng Đạo street up to Thiền Quang Lake and back up via Yết Kiêu Street. We look at the previous lives of some buildings\, we visit some pagodas you may not have been to before\, review how and why Thống Nhất Park was created as well as the foundation of Vietnam University of Fine Arts …… \nPlease RSVP to Stella \nWe start at the Friendship cultural palace and end at the University of Fine Arts \nWelcome information will be sent to those to RSVP \nMax 8 pax \n  \nPlease note at this changeable period due to COVID-19 that events are subject to government and local authority advice plus the agreement with our hosts; some events may need to be postponed at the last minute; we hope this won’t happen\, but we will keep you updated.  If you have any questions\, please contact us at hello@fvheritage.org. Thank you \nPlease follow and like us:Share this:Click to share on Facebook (Opens in new window)Click to share on Twitter (Opens in new window)Click to share on WhatsApp (Opens in new window)Click to share on Skype (Opens in new window)Click to share on Tumblr (Opens in new window)Click to share on Google+ (Opens in new window)Click to share on LinkedIn (Opens in new window)Click to share on Pocket (Opens in new window)Click to share on Pinterest (Opens in new window)Click to print (Opens in new window)Like this:Like Loading...\n\n	Related\n
URL:http://www.fvheritage.org/event/hanoi-city-walk-english-yet-kieu-street-area-3/
CATEGORIES:City Walks
ATTACH;FMTTYPE=image/png:http://www.fvheritage.org/wp-content/uploads/2020/03/Picture2.png
END:VEVENT
END:VCALENDAR