BEGIN:VCALENDAR
VERSION:2.0
PRODID:-//Friends of Vietnam Heritage - ECPv4.6.21//NONSGML v1.0//EN
CALSCALE:GREGORIAN
METHOD:PUBLISH
X-WR-CALNAME:Friends of Vietnam Heritage
X-ORIGINAL-URL:http://www.fvheritage.org
X-WR-CALDESC:Events for Friends of Vietnam Heritage
BEGIN:VEVENT
DTSTART;TZID=Asia/Ho_Chi_Minh:20220430T100000
DTEND;TZID=Asia/Ho_Chi_Minh:20220430T120000
DTSTAMP:20260419T030129
CREATED:20220404T100923Z
LAST-MODIFIED:20220404T100923Z
UID:2822-1651312800-1651320000@www.fvheritage.org
SUMMARY:Hanoi City Walk (English) – French concession to Thiền Quang Lake
DESCRIPTION:Our afternoon walk starts in front of the Opera House.  From here\, we walk to the School of Pharmacy\, designed by Ernest Hebrard and make our way along Lý Thường Kiệt Street to Thiền Quang Lake. \nLearn about the height of French presence  within Hà Nội and its influence on architecture and urban design. \nThe walk is led by Alvaro \nOpera House to Tien Quang Lake \nPlease RSVP via this registration form \nmax 9 people  \nWalk led by Alvaro \nPlease note at this changeable period due to COVID-19 that events are subject to government and local authority advice plus the agreement with our hosts; some events may need to be postponed at the last minute; we hope this won’t happen\, but we will keep you updated.  If you have any questions\, please contact us at hello@fvheritage.org. Thank you \nPlease follow and like us:Share this:Click to share on Facebook (Opens in new window)Click to share on Twitter (Opens in new window)Click to share on WhatsApp (Opens in new window)Click to share on Skype (Opens in new window)Click to share on Tumblr (Opens in new window)Click to share on Google+ (Opens in new window)Click to share on LinkedIn (Opens in new window)Click to share on Pocket (Opens in new window)Click to share on Pinterest (Opens in new window)Click to print (Opens in new window)Like this:Like Loading...\n\n	Related\n
URL:http://www.fvheritage.org/event/hanoi-city-walk-english-french-concession-to-thien-quang-lake-7/
CATEGORIES:City Walks
ATTACH;FMTTYPE=image/jpeg:http://www.fvheritage.org/wp-content/uploads/2020/09/オペラハウス　外観　３.jpg
END:VEVENT
END:VCALENDAR