BEGIN:VCALENDAR
VERSION:2.0
PRODID:-//Friends of Vietnam Heritage - ECPv4.6.21//NONSGML v1.0//EN
CALSCALE:GREGORIAN
METHOD:PUBLISH
X-WR-CALNAME:Friends of Vietnam Heritage
X-ORIGINAL-URL:http://www.fvheritage.org
X-WR-CALDESC:Events for Friends of Vietnam Heritage
BEGIN:VEVENT
DTSTART;TZID=Asia/Ho_Chi_Minh:20240512T090000
DTEND;TZID=Asia/Ho_Chi_Minh:20240512T113000
DTSTAMP:20260425T030616
CREATED:20240504T135944Z
LAST-MODIFIED:20240508T092006Z
UID:4342-1715504400-1715513400@www.fvheritage.org
SUMMARY:Hanoi City Walk (ENG): the art of Old Quarter communal houses - FULL
DESCRIPTION:THIS TOUR IS NOW FULL. PLEASE RSVP TO VAN FOR THE WAITING LIST \nA very special new walking tour. \nNguyễn Thế Sơn (public art artist\, researcher\, former art lecturer at the Fine Arts university) has curated a fascinating exhibition based on the art heritage of a number of communal houses in the Old Quarter.   On display in 6 communal houses (Đình) are works of art that reflect the story and heritage of the chosen communal houses. This is done through a number of ways including artworks using the medium of the handicraft/art that is associated with the particular communal house\, or paintings and installation art that depict heritage of the particular communal house. \nTheir stories are told through art. Our guide is our wonderful friend Nguyễn Thế Sơn.  The format is a walking tour going from communal house to communal house. \nStarting at Đình Hà Vỹ in Hàng Hòm we walk through the streets and alleys to also visit Đình Phả Trúc Lâm\, Đình Yên Thái\, Đình Tú Thị\, Đình Trung Yên\, and Đình Nam Hương in the Old Quarter and down to Hàng Trống. \nPlease RSVP to Van at phuongvan272@gmail.com \nVery max 10 people (after which we will have a waiting list and we hope to be able to run this walk again before the exhibitions come down in a few month’s time.) \nFor those who are confirmed please dress respectfully – cover shoulders\, no short outfits. \n200\,000 VND which includes a donation to Sơn for sharing his knowledge and giving up his time to lead this art walk. \n  \n  \n©1999 Friends of Vietnam Heritage. All rights reserved. All walking tours and excursions run by Friends of Vietnam Heritage are specially created by\, and are the property of\, Friends of Vietnam Heritage. You cannot use the ideas and content\, copy\, modify or publish these or any other activity without the express permission of Friends of Vietnam. Our activities are not to be used for commercial purposes. \nPlease follow and like us:Share this:Click to share on Facebook (Opens in new window)Click to share on Twitter (Opens in new window)Click to share on WhatsApp (Opens in new window)Click to share on Skype (Opens in new window)Click to share on Tumblr (Opens in new window)Click to share on Google+ (Opens in new window)Click to share on LinkedIn (Opens in new window)Click to share on Pocket (Opens in new window)Click to share on Pinterest (Opens in new window)Click to print (Opens in new window)Like this:Like Loading...\n\n	Related\n
URL:http://www.fvheritage.org/event/hanoi-city-walk-eng-the-art-of-old-quarter-communal-houses/
CATEGORIES:Arts & Antiquities,City Walks,History & Lectures
ATTACH;FMTTYPE=image/jpeg:http://www.fvheritage.org/wp-content/uploads/2024/05/postre.jpg
END:VEVENT
END:VCALENDAR