BEGIN:VCALENDAR
VERSION:2.0
PRODID:-//Friends of Vietnam Heritage - ECPv4.6.21//NONSGML v1.0//EN
CALSCALE:GREGORIAN
METHOD:PUBLISH
X-WR-CALNAME:Friends of Vietnam Heritage
X-ORIGINAL-URL:http://www.fvheritage.org
X-WR-CALDESC:Events for Friends of Vietnam Heritage
BEGIN:VEVENT
DTSTART;TZID=Asia/Ho_Chi_Minh:20250309T090000
DTEND;TZID=Asia/Ho_Chi_Minh:20250309T110000
DTSTAMP:20260416T002929
CREATED:20250226T135625Z
LAST-MODIFIED:20250310T025706Z
UID:4977-1741510800-1741518000@www.fvheritage.org
SUMMARY:Hanoi City Walk a.m (ENG): Revolutionary Women for International Women’s Day- POSTPONED
DESCRIPTION:APOLOGIES. THIS WALK WAS POSTPONED. ONCE RESCHEDULED THOSE ORIGINALLY CONFIMRED ON THE WALK WILL BE OFFERED PLACES FIRST. THANKS \nOur latest and newest  city walk – THE ROLE OF REVOLUTIONARY WOMEN \nTo celebrate International Women’s Day\, we have come up with a new walk centering on\, of course\, women.  \nThroughout the trip\, we will stop by a temple or two to learn about the tradition of worshipping mothers\, cross streets bearing the names of Vietnamese heroines\, learn about the education for girls as well as the roles of many women during the fight against the French.  These\, and many other stories. \n  \n\n\n\nAmount – 100\,000VND (50\,000 VND under 15s) \nMeeting point – those cofirmed on the walk will be sent the welcome email and meeting point in the centre of Hanoi \nWalk is led by Linh \nPlease RSVP – via this google form – by  7 March: Link same form as the one for 8 March \nNumbers – max 5 people (waiting list once places are filled) \nPlease email if any problems or questions to hello@fvheritage.org \nA welcome email will be sent to those confirmed on the walk 1-2 days before the walk.  Once you RSVP via the form you should receive an automatic  “receipt” email confirming sign up. \n  \n©1999 Friends of Vietnam Heritage. All rights reserved. All walking tours and excursions run by Friends of Vietnam Heritage are specially created by\, and are the property of\, Friends of Vietnam Heritage. You cannot use the ideas and content\, copy\, modify or publish these or any other activity without the express permission of Friends of Vietnam. Our activities are not to be used for commercial purposes.\n\n\n\nPlease follow and like us:Share this:Click to share on Facebook (Opens in new window)Click to share on Twitter (Opens in new window)Click to share on WhatsApp (Opens in new window)Click to share on Skype (Opens in new window)Click to share on Tumblr (Opens in new window)Click to share on Google+ (Opens in new window)Click to share on LinkedIn (Opens in new window)Click to share on Pocket (Opens in new window)Click to share on Pinterest (Opens in new window)Click to print (Opens in new window)Like this:Like Loading...\n\n	Related\n
URL:http://www.fvheritage.org/event/hanoi-city-walk-eng-revolutionary-women-for-international-womens-day/
CATEGORIES:City Walks
ATTACH;FMTTYPE=image/jpeg:http://www.fvheritage.org/wp-content/uploads/2025/02/revo-002.jpg
END:VEVENT
END:VCALENDAR