BEGIN:VCALENDAR
VERSION:2.0
PRODID:-//Friends of Vietnam Heritage - ECPv4.6.21//NONSGML v1.0//EN
CALSCALE:GREGORIAN
METHOD:PUBLISH
X-WR-CALNAME:Friends of Vietnam Heritage
X-ORIGINAL-URL:http://www.fvheritage.org
X-WR-CALDESC:Events for Friends of Vietnam Heritage
BEGIN:VEVENT
DTSTART;TZID=Asia/Ho_Chi_Minh:20260519T100000
DTEND;TZID=Asia/Ho_Chi_Minh:20260519T120000
DTSTAMP:20260424T061830
CREATED:20260422T031522Z
LAST-MODIFIED:20260422T031610Z
UID:5951-1779184800-1779192000@www.fvheritage.org
SUMMARY:Hanoi City Walk (a.m): French Colonial Architecture (日本語でのツアーです）
DESCRIPTION:ハノイ街歩き：フレンチ建築ツアー \n19 世紀後半から 20 世紀半ばまで、フランスの植民地だったベトナム。今もその時代の名残が街のいたる所に数多くあります。当時フランス人が住み、政治の中心となっていた場所を一緒に散策してみませんか？ \nソフィテルメトロポール、チャンティエン通り、 オペラハウス、 ハノイ国家大学などをご案内します \n日時： 2026 年 5 月 19 日（火曜日） 10:00～12:00 2 時間程度集合場所： ベトナム国立銀行 – Ngân Hàng Nhà nước Việt Nam.  （49 Lý Thái Tổ street off Tràng Tiền\, Hoàn Kiếm） \n定員： 8 名\n費用： 100\,000 VND\n※途中アイスクリーム店（Kem Tràng Tiền） にて休憩時間をとる予定です。 アイスクリーム代は、実費にて各自ご負担いただきます。 \n申込み先： https://forms.gle/PaG1RBLVb6AQVaTdA\nご質問等はこちらのメールまで\nfvh.citywalks.japanese@gmail.com\n(担当： 花里、水野、石川） \n  \n  \n©1999 Friends of Vietnam Heritage. All rights reserved. All walks and excursions run by Friends of Vietnam Heritage are specially created by\, and are the property of\, Friends of Vietnam Heritage. You cannot use the ideas and content\, copy\, modify or publish these or any other activity without the express permission of Friends of Vietnam Heritage. Our activities are not to be used for commercial purposes. \nPlease follow and like us:Share this:Click to share on Facebook (Opens in new window)Click to share on Twitter (Opens in new window)Click to share on WhatsApp (Opens in new window)Click to share on Skype (Opens in new window)Click to share on Tumblr (Opens in new window)Click to share on Google+ (Opens in new window)Click to share on LinkedIn (Opens in new window)Click to share on Pocket (Opens in new window)Click to share on Pinterest (Opens in new window)Click to print (Opens in new window)Like this:Like Loading...\n\n	Related\n
URL:http://www.fvheritage.org/event/hanoi-city-walk-a-m-french-colonial-architecture-%e6%97%a5%e6%9c%ac%e8%aa%9e%e3%81%a7%e3%81%ae%e3%83%84%e3%82%a2%e3%83%bc%e3%81%a7%e3%81%99%ef%bc%89/
CATEGORIES:City Walks
ATTACH;FMTTYPE=image/jpeg:http://www.fvheritage.org/wp-content/uploads/2022/08/photo-Opera.jpg
END:VEVENT
END:VCALENDAR