BEGIN:VCALENDAR
VERSION:2.0
PRODID:-//Friends of Vietnam Heritage - ECPv4.6.21//NONSGML v1.0//EN
CALSCALE:GREGORIAN
METHOD:PUBLISH
X-WR-CALNAME:Friends of Vietnam Heritage
X-ORIGINAL-URL:http://www.fvheritage.org
X-WR-CALDESC:Events for Friends of Vietnam Heritage
BEGIN:VEVENT
DTSTART;TZID=Asia/Ho_Chi_Minh:20180125T193000
DTEND;TZID=Asia/Ho_Chi_Minh:20180125T210000
DTSTAMP:20260424T012447
CREATED:20180107T050842Z
LAST-MODIFIED:20180112T094033Z
UID:123-1516908600-1516914000@www.fvheritage.org
SUMMARY:Film: Lost & Found (Của rơi)
DESCRIPTION:Lost and Found by Director Vuong Duc is one of the few feature films focusing on the contemporary topic of aspirations and thoughts of the youth in society in the early days of Vietnam’s development. \nIt is a story revolves around a mathematics teacher. He is kind and helpful but also very naïve which causes him to experience many troubles in life. In both a humorous and bitter way\, the film raises a big question about role and behavior of intellectuals in society. The cleverness of scriptwriter Nguyen Viet Ha combined with Dir. Vuong Duc’s special staging techniques has resulted in a special film\, which also portrays the beautiful scenery and life in Hanoi nearly 20 years ago. \nThe film is 1 hour 40 minute long with English subtitles. \nDownload the flier here. \nVenue: Vietnam Feature Films Studio (VFS)\, 4 Thuy Khue St\, Tay Ho\, Hanoi. Enter via entrance off Thuy Khue St. \nCost: VND 150\,000 \nEmail your RSVP to the Film Team. \nMotorbikes and Cycles \nParking fees @ the Studio -5\,000 vnd motorbike; 2\,000 vnd for a cycle; 10\,000 vnd for car \nNotes: \nLimit of 50 people. \nYour reservation is not confirmed until you receive our reply email. \nPlease arrive by 7.15pm latest to collect and pay for your ticket at VFS. As a courtesy to those on the waiting list – please cancel if you can’t come (phone 0948 057 157). \nReserved seating tickets are allocated on a first come – first served basis. We don’t pre-book seating but if you come early you can get one of the big comfy armchair seats. \nRefreshments \nSaigon or Hanoi Beer 20\,000 VND per bottle \nBottle of water complimentary. \nIn the alley outside the studios are number of good food stalls for you to enjoy a pre-film dinner. \nPlease note that full joining instructions\, venue information and location of the viewing theatre will be sent to all those who RSVP a few days before the film \nVietnam Feature Films Studio is the Big Brother of the country’s film industry. This is a huge honor and privilege for FVH to have the chance to hold our film nights here. The studios have gone out of their way to support FVH and truly hope as many of our members will continue to support us. \n  \nPlease follow and like us:Share this:Click to share on Facebook (Opens in new window)Click to share on Twitter (Opens in new window)Click to share on WhatsApp (Opens in new window)Click to share on Skype (Opens in new window)Click to share on Tumblr (Opens in new window)Click to share on Google+ (Opens in new window)Click to share on LinkedIn (Opens in new window)Click to share on Pocket (Opens in new window)Click to share on Pinterest (Opens in new window)Click to print (Opens in new window)Like this:Like Loading...\n\n	Related\n
URL:http://www.fvheritage.org/event/film-save-the-date/
CATEGORIES:Films
END:VEVENT
END:VCALENDAR