BEGIN:VCALENDAR
VERSION:2.0
PRODID:-//Friends of Vietnam Heritage - ECPv4.6.21//NONSGML v1.0//EN
CALSCALE:GREGORIAN
METHOD:PUBLISH
X-WR-CALNAME:Friends of Vietnam Heritage
X-ORIGINAL-URL:http://www.fvheritage.org
X-WR-CALDESC:Events for Friends of Vietnam Heritage
BEGIN:VEVENT
DTSTART;TZID=Asia/Ho_Chi_Minh:20180426T193000
DTEND;TZID=Asia/Ho_Chi_Minh:20180426T210000
DTSTAMP:20260418T160933
CREATED:20180414T064350Z
LAST-MODIFIED:20180415T050531Z
UID:325-1524771000-1524776400@www.fvheritage.org
SUMMARY:Film Night: Mother's Soul
DESCRIPTION:***PLEASE REGISTER TO ATTEND THIS EVENT. DETAILS BELOW*** \nThe movie for this month is Mother’s Soul. \n “Mother’s Soul” produced by the Vietnam Feature Film Studio\, was nurtured in 20 years by director Nhue Giang. The movie is based on a same-name short story written by Nguyen Huy Thiep in the late 1980s. It is about a mother and her daughter who live in a tent amid the Red River in Hanoi. The mother (Hong Anh) is always busy making a living day by day by selling fruits in Long Bien market and desperately running for the love with a long-distance driver (Truong Minh Quoc Thai). Meanwhile\, her little daughter (Phung Hoa Hoai Linh) is an independent and mature girl who always protects the neighbouring orphan\, a boy living with his grandparents. \nIn the film\, young star Phung Hoa Hoai Linh showed her strong capability with a touching and sincere acting style\, which made her become the youngest Vietnamese artist to win the Best Actress trophy at 2011 Dubai’s International Film Festival. She was also rated as one of the potential faces of future cinema generations of Vietnam. \nBesides\, the film also won other prizes such as the jury’s prize in Vietnam Film Festival held in Phu Yen in 2011 and top prize at Vietnam Film Festival in Saint Malo\, France in 2014. \n \nProduction year: 2011 \nDuration: 92 minutes \nSubtitle: English \nVenue:           Vietnam Feature Films Studio (VFS)\, No. 4 Thuy Khue\, Tay Ho district\, Hanoi. Enter via entrance off Thuy Khue Street \nDonation:      150\,000vnd \nLimit:          50 people \nContact:        Film group\, van@fvheritage.org \n Motorbikes and Cycles \nParking fees @ the Studio – 5\,000 vnd motorbike; 2\,000 vnd for a cycle; 10\,000 vnd for car \nNotes: \nYour reservation is not confirmed until you receive our reply email. \nPlease arrive by 7.15pm latest to collect and pay for your ticket at VFS. As a courtesy to those on the waiting list – please cancel if you can’t come. \nReserved seating tickets are allocated on a first come – first served basis. We don’t pre-book seating but if you come early you can get one of the big comfy armchair seats. \nRefreshments \nSaigon or Hanoi Beer 20\,000 VND per bottle \nBottle of water complimentary \nIn the alley outside the studios are number of good food stalls for you to enjoy a pre-film dinner. \nPlease note that full joining instructions\, venue information and location of the viewing theatre will be sent to all those who RSVP a few days before the film \nVietnam Feature Films Studio is the Big Brother of the country’s film industry. This is a huge honor and privilege for FVH to have the chance to hold our film nights here. The studios have gone out of their way to support FVH and truly hope that as many of our members can come to support our 3rd FVH film night as well as supporting the great staff and organisation of VFS. \nPhim: Tâm hồn mẹ \n Đạo diễn: Phạm Nhuệ Giang \n Dựa trên ý tưởng từ truyện ngắn cùng tên của nhà văn Nguyễn Huy Thiệp\, “Tâm hồn mẹ” xoay quanh câu chuyện về hai mẹ con sống ở bãi giữa sông Hồng. Người mẹ (Hồng Ánh) luôn bận rộn mưu sinh và mải mê chạy theo cuộc tình vô vọng với người lái xe đường dài (Trương Minh Quốc Thái). Trong khi đó\, đứa con gái (Phùng Hoa Hoài Linh) còn nhỏ tuổi nhưng tự lập\, luôn bảo vệ\, che chở cho cậu bạn thân. Phim là sự đối lập giữa người mẹ “lớn” còn bồng bột và người mẹ “trẻ con” chín chắn. \nGây chú ý nhất trong Tâm hồn mẹ là diễn viên 12 tuổi Phùng Hoa Hoài Linh trong vai Thu. Lối diễn chân thật\, trong trẻo\, gây xúc động của Hoài Linh đã giúp cô bé trở thành người nhỏ tuổi nhất trong lịch sử điện ảnh Việt Nam giành giải Nữ diễn viên chính xuất sắc tại LHP quốc tế tại Dubai năm 2011. Cô bé cũng được đánh giá là một trong những gương mặt tiềm năng của nền điện ảnh tương lai của nước nhà. \nĐây là bộ phim được ấp ủ hơn 20 năm của nữ đạo diễn tài năng Phạm Nhuệ Giang. Phim dành giải nữ diễn viên chính xuất sắc tại Liên hoan Phim Dubai 2011\, Giải thưởng của Ban Giám khảo tại Liên hoan phim Việt Nam lần thứ 17 tại Phú Yên năm 2011 và giải cao nhất trong Liên hoan phim Việt Nam tại Saint Malo\, Pháp năm 2014. \n Năm sản xuất : 2011 \nThời lượng     : 92 phút \nPhụ đề             : Tiếng Anh; \nPlease follow and like us:Share this:Click to share on Facebook (Opens in new window)Click to share on Twitter (Opens in new window)Click to share on WhatsApp (Opens in new window)Click to share on Skype (Opens in new window)Click to share on Tumblr (Opens in new window)Click to share on Google+ (Opens in new window)Click to share on LinkedIn (Opens in new window)Click to share on Pocket (Opens in new window)Click to share on Pinterest (Opens in new window)Click to print (Opens in new window)Like this:Like Loading...\n\n	Related\n
URL:http://www.fvheritage.org/event/film-night-mothers-soul/
CATEGORIES:Films
ATTACH;FMTTYPE=image/jpeg:http://www.fvheritage.org/wp-content/uploads/2018/04/Mothers-soul-pic.jpg
ORGANIZER;CN="Nguyen%20Phuong%20Van":MAILTO:van@fvheritage.org
END:VEVENT
END:VCALENDAR