BEGIN:VCALENDAR
VERSION:2.0
PRODID:-//Friends of Vietnam Heritage - ECPv4.6.21//NONSGML v1.0//EN
CALSCALE:GREGORIAN
METHOD:PUBLISH
X-WR-CALNAME:Friends of Vietnam Heritage
X-ORIGINAL-URL:http://www.fvheritage.org
X-WR-CALDESC:Events for Friends of Vietnam Heritage
BEGIN:VEVENT
DTSTART;TZID=Asia/Ho_Chi_Minh:20180603T160000
DTEND;TZID=Asia/Ho_Chi_Minh:20180603T180000
DTSTAMP:20260420T064535
CREATED:20180515T143411Z
LAST-MODIFIED:20180531T040211Z
UID:372-1528041600-1528048800@www.fvheritage.org
SUMMARY:Cultural Series – talk and presentation on TAOISM in Vietnam
DESCRIPTION:Taoism is a religious/philosophical tradition originating in China\, dating from around the 4th century BC. It emphasizes living in harmony with the Tao.  Central to the Taoist philosophy is duality and living with opposites. Yang is male\, associated with the sun\, hot\, active\, rigid and conformist. Yin is female\, associated with the earth\, cool\, passive\, flexible and unorthodox. This principle applies to all elements of existence. Taoism encourages a pure and simple life\, harmony between each other\, nature and the universe. Once goodwill is established\, conflict should cease. In Vietnam today\, Taoism is a blend of spiritualism\, divining and an element of magical features relating to religion. Tao means ‘’the path’’ and the religion is seeking to teach followers the correct path in harmony with nature. \nDr Trần Đoan Lâm of The Gioi Publishers is one of FVH’s regular and popular speakers and we are delighted he has accepted our invitation to share his knowledge of Taoism – specifically regarding Vietnam. \nHis presentation focuses on \npart 1: \nThe differerences between Taoism as a philosophy and as a religion \nSummary – Lao Tzue’sTao Te Ching \nSimple explanation of yin and yang and how this was incorporated into Taosim \npart 2: \nRtuals and ceremonies in Vietnam with Taoist elements eg: funerals\, consulting with the immortals \nApplications to folk sciences eg feng shui/horoscopes \npart 3: \nshamanism – instruments used in rituals and shaman demonstration \nQ&A \n(Q&A. Dr Lâm will speak in English) \n \n220\,000 vnd pp includes a short presentation plus contribution towards a gift \nPlease follow and like us:Share this:Click to share on Facebook (Opens in new window)Click to share on Twitter (Opens in new window)Click to share on WhatsApp (Opens in new window)Click to share on Skype (Opens in new window)Click to share on Tumblr (Opens in new window)Click to share on Google+ (Opens in new window)Click to share on LinkedIn (Opens in new window)Click to share on Pocket (Opens in new window)Click to share on Pinterest (Opens in new window)Click to print (Opens in new window)Like this:Like Loading...\n\n	Related\n
URL:http://www.fvheritage.org/event/cultural-series-talk-and-presentation-on-taoism-in-vietnam/
LOCATION:6th floor\, 46 Tran Hung Dao\, Hanoi\, Viet Nam
CATEGORIES:Beliefs & Religions,Culture Series,History & Lectures
ORGANIZER;CN="Stella%20Ciorra":MAILTO:stella@fvheritage.org
END:VEVENT
END:VCALENDAR