BEGIN:VCALENDAR
VERSION:2.0
PRODID:-//Friends of Vietnam Heritage - ECPv4.6.21//NONSGML v1.0//EN
CALSCALE:GREGORIAN
METHOD:PUBLISH
X-WR-CALNAME:Friends of Vietnam Heritage
X-ORIGINAL-URL:http://www.fvheritage.org
X-WR-CALDESC:Events for Friends of Vietnam Heritage
BEGIN:VEVENT
DTSTART;TZID=Asia/Ho_Chi_Minh:20200629T100000
DTEND;TZID=Asia/Ho_Chi_Minh:20200629T113000
DTSTAMP:20260417T183134
CREATED:20200531T102504Z
LAST-MODIFIED:20200531T102658Z
UID:1614-1593424800-1593430200@www.fvheritage.org
SUMMARY:Cultural Series – Lecture. “Textiles and costumes of Vietnam's ethnic minorities”. Talk with Mark Rapoport
DESCRIPTION:Many of the people of Viet Nam’s ethnic minorities are immediately identifiable by the costumes and textiles that they wear.  In fact\, most of them wear their identity for all to see – all day and every day; pants\, skirts\, jackets\, belts\, turbans and jewelry. \nVietnam has a rich tradition in textiles among the different minority groups. Textiles do much more than cover the body. They convey identity\, marital status\, spiritual identity\, wealth\, social status\, tribal history\, accomplishments and personality. Even though textile weaving follows strong conventions\, there is room for individuality and differentiation\, and textiles may be said to “speak”. \nDr. Mark Rapoport is an American pediatrician who is a resident of Hanoi. He began collecting Vietnamese tribal art in 1969 and owns a gallery in Hanoi. Objects from his collection (both Vietnamese and African) are now housed in numerous museums in the U.S and in Vietnam. \nThis is one of Mark’s regular talks he gives FVH in his 54 Traditions gallery/shop. \nThe talk and presentation is at 54 Traditions gallery/shop\, 30 Hang Bun \nPlease RSVP to John  \nMax 20 pax \nPlease follow and like us:Share this:Click to share on Facebook (Opens in new window)Click to share on Twitter (Opens in new window)Click to share on WhatsApp (Opens in new window)Click to share on Skype (Opens in new window)Click to share on Tumblr (Opens in new window)Click to share on Google+ (Opens in new window)Click to share on LinkedIn (Opens in new window)Click to share on Pocket (Opens in new window)Click to share on Pinterest (Opens in new window)Click to print (Opens in new window)Like this:Like Loading...\n\n	Related\n
URL:http://www.fvheritage.org/event/cultural-series-lecture-textiles-and-costumes-of-vietnams-ethnic-minorities-talk-with-mark-rapoport/
CATEGORIES:Arts & Antiquities,Culture Series,History & Lectures
ATTACH;FMTTYPE=image/jpeg:http://www.fvheritage.org/wp-content/uploads/2019/03/red-dao-embroidery.jpg
ORGANIZER;CN="John%20Reilly":MAILTO:john@fvheritage.org
END:VEVENT
END:VCALENDAR