BEGIN:VCALENDAR
VERSION:2.0
PRODID:-//Friends of Vietnam Heritage - ECPv4.6.21//NONSGML v1.0//EN
CALSCALE:GREGORIAN
METHOD:PUBLISH
X-WR-CALNAME:Friends of Vietnam Heritage
X-ORIGINAL-URL:http://www.fvheritage.org
X-WR-CALDESC:Events for Friends of Vietnam Heritage
BEGIN:VEVENT
DTSTART;TZID=Asia/Ho_Chi_Minh:20220514T093000
DTEND;TZID=Asia/Ho_Chi_Minh:20220514T113000
DTSTAMP:20260420T002017
CREATED:20220502T151444Z
LAST-MODIFIED:20220511T042743Z
UID:2835-1652520600-1652527800@www.fvheritage.org
SUMMARY:Cultural series and workshop - Shan Tuyet tea trees\, VN tea culture and a tea tasting experience
DESCRIPTION:Part lecture/presentation\, part workshop on Vietnam’s tea culture \nMAY HAVE 1-2 LAST MINUTE SPACES – PLEASE CONTACT STELLA \nThe team at Tien Thien Tra space have been running these presentations and workshops for a while but mainly to a purely Vietnamese audience. They have approached FVH for advice regarding how to make their sessions more relevant to a wider community and especially for those who want more cultural detail about Vietnam’s tea traditions and tea tasting experience. We have worked with them to refine their event and are delighted to be able to offer the first presenationa and workshop designed specially for FVH. \nThis is the first of what we hope can be a regular series based round the tea culture traditions.. The focus is on the special ancient Shan Tuyet tea growing area of north Vietnam. \n\nWhy the tea culture is so important in Vietnam\nWhat makes Shan Tuyet tea dfferent to other teas in VN\nThe Shan Tuyet tea trees which are over hundreds of years old\nHow the tea leaves are picked\nThe lives of the ethnic groups who make a living through Shan Tuyet tea\nTraditional VN tea ceremony – we go into more detail about how one should sit\, prepare and hold the tea making implements\nUnderstand the difference between 10 varieties of tea from white to black teas\nNow a fun interactive part – we taste each tea and learn how to identify the teas. After a break we have blind tastings and a mini tea tasting competition to see who can guess a selection of the teas by taste\, colour and aroma\n\nHeld at Tien Thien Tra Space\, 55 Nguyen Hy Quang\, (location map and full details will be sent to those who RSVP) – located between the top of Xa Dan/Ton Duc Thang and Hoang Cau area (appx 20 mins from Xuan Dieu area) \nvery max 7 people (once this is full we will have a waiting list which will take priority for a repeat event) \nplease RSVP to stella@fvheritage.org \n  \n  \nPlease follow and like us:Share this:Click to share on Facebook (Opens in new window)Click to share on Twitter (Opens in new window)Click to share on WhatsApp (Opens in new window)Click to share on Skype (Opens in new window)Click to share on Tumblr (Opens in new window)Click to share on Google+ (Opens in new window)Click to share on LinkedIn (Opens in new window)Click to share on Pocket (Opens in new window)Click to share on Pinterest (Opens in new window)Click to print (Opens in new window)Like this:Like Loading...\n\n	Related\n
URL:http://www.fvheritage.org/event/cultural-series-and-workshop-shan-tuyet-tea-trees-and-vn-tea-culture/
CATEGORIES:Culture Series,Workshop
ATTACH;FMTTYPE=image/png:http://www.fvheritage.org/wp-content/uploads/2022/05/Tea.png
ORGANIZER;CN="Stella%20Ciorra":MAILTO:stella@fvheritage.org
END:VEVENT
END:VCALENDAR