BEGIN:VCALENDAR
VERSION:2.0
PRODID:-//Friends of Vietnam Heritage - ECPv4.6.21//NONSGML v1.0//EN
CALSCALE:GREGORIAN
METHOD:PUBLISH
X-WR-CALNAME:Friends of Vietnam Heritage
X-ORIGINAL-URL:http://www.fvheritage.org
X-WR-CALDESC:Events for Friends of Vietnam Heritage
BEGIN:VEVENT
DTSTART;TZID=Asia/Ho_Chi_Minh:20250118T093000
DTEND;TZID=Asia/Ho_Chi_Minh:20250118T120000
DTSTAMP:20260416T012813
CREATED:20241230T020905Z
LAST-MODIFIED:20250106T171816Z
UID:4874-1737192600-1737201600@www.fvheritage.org
SUMMARY:Craft workshop – ethnic minority textile cat and tiger craft workshop - FULL
DESCRIPTION:THIS WORKHSOP IS NOW FULL PLEASE RSVP FOR THE WAITING LIST. THANKS \nIn 2023 we started to run some workshops with Huyen of Textile Linker fame. She teamed up with Thuy who founded Chie Dù Pù Dù Pà in Hang Trong street to run craft workshops.  Huyen is busy with many of her own projects at the moment but we are starting to run workshops again with Chie. \nThis January we are making 2 little textile animals – a cat and a tiger. This workshop is suitable for both advanced and the less skilled but may be a bit more fiddly than others.  The items are small\, the bodies are pre-sewn and we stuff them with cotton\, sewing the last section by hand\, we make and sew on  the faces and add the facial features of eyes\, noses\, whiskers etc. They are such cute little animals. \n \nThese 2 animals feature in the Vietnamese animal zodiac in the following order \nrat\, buffalo\, tiger\, cat\, dragon\, snake\, horse\, goat\, monkey\, rooster\, dog\, and pig. \nThe Tiger – Hổ.  The Tiger is powerful and captivating\, rebellious and passionate.  Devoted to family never complaining\, hard working and intelligent. \nThe Cat – Mèo.  The cat (in Vietnam) replaces the rabbit (in the Chinese calendar). The Cat is creative\, cautious and conservative.  Talented and ambitious but prone mood swings. \nNumbers – Min 5\, very max 10 people for this workshop to run. \nAmount – VND 390\,000 pp\, includes instruction\, all materials\, herbal tea\, and green bean cake. and 2 animals each. \nVenue – Chie Dù Pù Dù Pà\, in Hang Trong street \nRSVP – Stella@fvheritage.org \nWelcome email will be sent to those confirmed on the workshop a few days before. \nPlease follow and like us:Share this:Click to share on Facebook (Opens in new window)Click to share on Twitter (Opens in new window)Click to share on WhatsApp (Opens in new window)Click to share on Skype (Opens in new window)Click to share on Tumblr (Opens in new window)Click to share on Google+ (Opens in new window)Click to share on LinkedIn (Opens in new window)Click to share on Pocket (Opens in new window)Click to share on Pinterest (Opens in new window)Click to print (Opens in new window)Like this:Like Loading...\n\n	Related\n
URL:http://www.fvheritage.org/event/craft-workshop-ethnic-minority-textile-cat-and-tiger-craft-workshop/
CATEGORIES:Workshop
ATTACH;FMTTYPE=image/jpeg:http://www.fvheritage.org/wp-content/uploads/2024/10/PDF-poster.jpg
END:VEVENT
END:VCALENDAR