BEGIN:VCALENDAR
VERSION:2.0
PRODID:-//Friends of Vietnam Heritage - ECPv4.6.21//NONSGML v1.0//EN
CALSCALE:GREGORIAN
METHOD:PUBLISH
X-WR-CALNAME:Friends of Vietnam Heritage
X-ORIGINAL-URL:http://www.fvheritage.org
X-WR-CALDESC:Events for Friends of Vietnam Heritage
BEGIN:VEVENT
DTSTART;TZID=Asia/Ho_Chi_Minh:20220507T093000
DTEND;TZID=Asia/Ho_Chi_Minh:20220507T113000
DTSTAMP:20260424T041259
CREATED:20220401T024531Z
LAST-MODIFIED:20220420T024927Z
UID:2797-1651915800-1651923000@www.fvheritage.org
SUMMARY:City Walk (English): Imperial Citadel of Thăng Long - FULL
DESCRIPTION:THIS WALK IS NOW FULL – ITS A VERY POPLULAR ONE SO WE OFTEN RUN THIS WALK SO PLEASE LOOK OUT FOR THE NEXT TIME THIS IS SCHEDULED \nOur informative walk led by Alvaro starts in front of the Flag Tower on Điện Biên Phủ with a brief introduction to the Citadel. We will then proceed into the Citadel complex\, which is a UNESCO World Heritage Site\, on Hoàng Diệu to learn about/discuss the architecture\, the different historical periods of this former centre of power\, the different relics and the part it played in the American war. \n100\,000 VND + 30\,000 VND separate entrance fee (which also includes entry to the excavation site next to the National Assembly building) \nMax 10 people \nMeeting point: in front of Highlands Flag Tower\, 28A Điện Biên Phu \nPlease RSVP via this google form \n  \n  \nPlease note at this changeable period due to COVID-19 that events are subject to government and local authority advice plus the agreement with our hosts; some events may need to be postponed at the last minute; we hope this won’t happen\, but we will keep you updated.  If you have any questions\, please contact us at hello@fvheritage.org. Thank you \nPlease follow and like us:Share this:Click to share on Facebook (Opens in new window)Click to share on Twitter (Opens in new window)Click to share on WhatsApp (Opens in new window)Click to share on Skype (Opens in new window)Click to share on Tumblr (Opens in new window)Click to share on Google+ (Opens in new window)Click to share on LinkedIn (Opens in new window)Click to share on Pocket (Opens in new window)Click to share on Pinterest (Opens in new window)Click to print (Opens in new window)Like this:Like Loading...\n\n	Related\n
URL:http://www.fvheritage.org/event/city-walk-english-imperial-citadel-of-thang-long-6/
CATEGORIES:City Walks
ATTACH;FMTTYPE=image/png:http://www.fvheritage.org/wp-content/uploads/2020/01/citadel.png
END:VEVENT
END:VCALENDAR