BEGIN:VCALENDAR
VERSION:2.0
PRODID:-//Friends of Vietnam Heritage - ECPv4.6.21//NONSGML v1.0//EN
CALSCALE:GREGORIAN
METHOD:PUBLISH
X-WR-CALNAME:Friends of Vietnam Heritage
X-ORIGINAL-URL:http://www.fvheritage.org
X-WR-CALDESC:Events for Friends of Vietnam Heritage
BEGIN:VEVENT
DTSTART;TZID=Asia/Ho_Chi_Minh:20230911T190000
DTEND;TZID=Asia/Ho_Chi_Minh:20230911T203000
DTSTAMP:20260417T132735
CREATED:20230829T014707Z
LAST-MODIFIED:20230830T034401Z
UID:3750-1694458800-1694464200@www.fvheritage.org
SUMMARY:Bookclub - On Earth We’re Briefly Gorgeous by Ocean Vuong.
DESCRIPTION:This book explores the complicated relationship between mother and son. Little Dog loves his mother\, but his childhood is not easy. The book is a letter to his abusive mother\, whose own past is also traumatic …… \n  \nThe book is available for purchase at Bookworm. \nVenue:  Eastern & Oriental Tea House\, 46 P. Quang An\, Tay Ho https://goo.gl/maps/YCdV5nkw71vvvS6n8 \nFor more information on joining our bookclub please contact  cjeziorski@unishanoi.org or hello@fvheritage.org \nPlease follow and like us:Share this:Click to share on Facebook (Opens in new window)Click to share on Twitter (Opens in new window)Click to share on WhatsApp (Opens in new window)Click to share on Skype (Opens in new window)Click to share on Tumblr (Opens in new window)Click to share on Google+ (Opens in new window)Click to share on LinkedIn (Opens in new window)Click to share on Pocket (Opens in new window)Click to share on Pinterest (Opens in new window)Click to print (Opens in new window)Like this:Like Loading...\n\n	Related\n
URL:http://www.fvheritage.org/event/bookclub-on-earth-were-briefly-gorgeous-by-ocean-vuong/
CATEGORIES:Books
ATTACH;FMTTYPE=image/png:http://www.fvheritage.org/wp-content/uploads/2023/08/ocean-vuong.png
END:VEVENT
END:VCALENDAR